BEGIN:VCALENDAR
VERSION:2.0
PRODID:-//Galopper Hamburg - ECPv6.15.20//NONSGML v1.0//EN
CALSCALE:GREGORIAN
METHOD:PUBLISH
X-ORIGINAL-URL:https://galopper-hamburg.de
X-WR-CALDESC:Veranstaltungen für Galopper Hamburg
REFRESH-INTERVAL;VALUE=DURATION:PT1H
X-Robots-Tag:noindex
X-PUBLISHED-TTL:PT1H
BEGIN:VTIMEZONE
TZID:Europe/Berlin
BEGIN:DAYLIGHT
TZOFFSETFROM:+0100
TZOFFSETTO:+0200
TZNAME:CEST
DTSTART:20250330T010000
END:DAYLIGHT
BEGIN:STANDARD
TZOFFSETFROM:+0200
TZOFFSETTO:+0100
TZNAME:CET
DTSTART:20251026T010000
END:STANDARD
BEGIN:DAYLIGHT
TZOFFSETFROM:+0100
TZOFFSETTO:+0200
TZNAME:CEST
DTSTART:20260329T010000
END:DAYLIGHT
BEGIN:STANDARD
TZOFFSETFROM:+0200
TZOFFSETTO:+0100
TZNAME:CET
DTSTART:20261025T010000
END:STANDARD
BEGIN:DAYLIGHT
TZOFFSETFROM:+0100
TZOFFSETTO:+0200
TZNAME:CEST
DTSTART:20270328T010000
END:DAYLIGHT
BEGIN:STANDARD
TZOFFSETFROM:+0200
TZOFFSETTO:+0100
TZNAME:CET
DTSTART:20271031T010000
END:STANDARD
END:VTIMEZONE
BEGIN:VEVENT
DTSTART;TZID=Europe/Berlin:20260202T183000
DTEND;TZID=Europe/Berlin:20260202T220000
DTSTAMP:20260420T102908
CREATED:20260105T160336Z
LAST-MODIFIED:20260204T111229Z
UID:3969-1770057000-1770069600@galopper-hamburg.de
SUMMARY:Quiz: Tom's Tricky Trivia Time - 18 Themengebiete im bunten Mix. Immer dabei: "Regionales & Aktuelles"
DESCRIPTION:Im  galopper\, Stellinger Weg 35 \nBeginn 19h; bis 18:30h da sein. \nVeranstaltung 19h – 22h \n  \nThomas hat nicht nur immer einen guten Spruch auf den Lippen\, sondern ist auch noch ein fantastischer Quizmoderator. \n  \nSein eigenes Quizformat \nTom’s Tricky Trivia Time \nhat ab sofort einen festen Platz in unserem Programm! \n  \nJeden 1.Montag im Monat: \n3 Runden à 10 Fragen \n18 Themengebiete im bunten Mix. Immer dabei: „Regionales & Aktuelles“ \n  \n👥 Teams mit bis zu 5 Personen \nIn einer Gruppe dürfen bis zu 5 Teilnehmer quizzen. Seid ihr mehr\, teilt Ihr Euch intern am selben Tisch in mehrere Gruppen auf. \n  \n🍕 Knusprige Pizza \n🍺 8 Biere vom Fass \n🍹 Leckere Drinks \nDer Verzehr von Speisen und Getränken ist sehr erwünscht. \nBitte keine eigenen Snacks mitbringen. \n  \nReservierung dringend empfohlen um sicher dabei zu sein: \n📩 quiz@galopper-hamburg.de \n  \nAb Januar 2026 erlauben wir uns\, das Startgeld für jedes Quiz im galopper\, auf 7\,50€ zu erhöhen. \nDieses Startgeld wird verbindlich fällig\, für alle angemeldeten Personen. Eine kostenfreie  \nStornierung ist bis 5 Tage vor der Veranstaltung möglich. \n  \nAB MÄRZ WERDEN WIR NEBEN JEDEM MONTAG UND DIENSTAG AUCH DEN MITTWOCH MIT QUIZZEN FÜLLEN. \n  \nBitte nur Kartenzahlung. \n\n  \nWir benötigen den Namen der Reservierenden\, die Anzahl der Teilnehmerinnen pro Tisch und die Zeit\, wann ihr kommt. \n  \nDer „galopper“ öffnet um 17h. Eine von uns bestätigte Reservierung verfällt\, wenn ihr bis um 18:30h noch nicht erschienen seid. \n  \nWir sehen uns im galopper in Eimsbüttel! Stellinger Weg 35. \n  \n„Im Galopper gewinnt nicht der Schnellste – sondern der Klügste!“
URL:https://galopper-hamburg.de/event/toms-tricky-trivia-time-5-2-2-2-2/
LOCATION:Galopper\, Stellinger Weg 35\, Hamburg\, 20255\, Deutschland
ATTACH;FMTTYPE=image/jpeg:https://galopper-hamburg.de/wp-content/uploads/2024/11/toms-1.jpg
ORGANIZER;CN="Mysuru Bites":MAILTO:mysurubites2024@gmail.com
END:VEVENT
BEGIN:VEVENT
DTSTART;TZID=Europe/Berlin:20260203T183000
DTEND;TZID=Europe/Berlin:20260203T220000
DTSTAMP:20260420T102908
CREATED:20260105T161113Z
LAST-MODIFIED:20260204T111416Z
UID:3975-1770143400-1770156000@galopper-hamburg.de
SUMMARY:galopper-Quiz mit Kalle & Co. / heutiges Co.: Kirsten!
DESCRIPTION:Im  galopper\, Stellinger Weg 35 \nBeginn 19h; bis 18:30h da sein. \nVeranstaltung 19h – 22h \n  \nDas Konzept sieht vor\, dass ein zweiter Moderator ( Kalles „Sidekick“ ) eine Runde mit 10 Fragen moderiert. \nEs gibt 3\, manchmal sogar 4 Raterunden mit je 10 Fragen\, in denen euer Allgemeinwissen auf charmante Art geprüft wird. \n\n\n  \n👥 Teams mit bis zu 5 Personen \nIn einer Gruppe dürfen bis zu 5 Teilnehmer quizzen. Seid ihr mehr\, teilt Ihr Euch intern am selben Tisch in mehrere Gruppen auf. \n  \n🍕 Knusprige Pizza \n🍺 8 Biere vom Fass \n🍹 Leckere Drinks \nDer Verzehr von Speisen und Getränken ist sehr erwünscht. \nBitte keine eigenen Snacks mitbringen. \n  \nReservierung dringend empfohlen um sicher dabei zu sein: \n📩 quiz@galopper-hamburg.de \n  \nAb Januar 2026 erlauben wir uns\, das Startgeld für jedes Quiz im galopper\, auf 7\,50€ zu erhöhen. \nDieses Startgeld wird verbindlich fällig\, für alle angemeldeten Personen. \nEine kostenfreie Stornierung ist bis 5 Tage vor der Veranstaltung möglich. \n  \nAB MÄRZ WERDEN WIR NEBEN JEDEM MONTAG UND DIENSTAG AUCH DEN MITTWOCH MIT QUIZZEN FÜLLEN. \n  \nBitte nur Kartenzahlung. \n\n  \nWir benötigen den Namen der Reservierenden\, die Anzahl der Teilnehmerinnen pro Tisch und die Zeit\, wann ihr kommt. \n  \nDer „galopper“ öffnet um 17h. Eine von uns bestätigte Reservierung verfällt\, wenn ihr bis um 18:30h noch nicht erschienen seid. \n  \nWir sehen uns im galopper in Eimsbüttel! Stellinger Weg 35. \n  \n„Im Galopper gewinnt nicht der Schnellste – sondern der Klügste!“
URL:https://galopper-hamburg.de/event/galopper-quiz-mit-kalle-co-5-2-2-2/
LOCATION:Galopper\, Stellinger Weg 35\, Hamburg\, 20255\, Deutschland
ATTACH;FMTTYPE=image/jpeg:https://galopper-hamburg.de/wp-content/uploads/2024/03/kalle-co.jpg
END:VEVENT
BEGIN:VEVENT
DTSTART;TZID=Europe/Berlin:20260209T183000
DTEND;TZID=Europe/Berlin:20260209T220000
DTSTAMP:20260420T102908
CREATED:20260105T161601Z
LAST-MODIFIED:20260204T111444Z
UID:3978-1770661800-1770674400@galopper-hamburg.de
SUMMARY:Tommy's PubQuiz
DESCRIPTION:Im  galopper\, Stellinger Weg 35 \nBeginn 19h; bis 18:30h da sein. \nVeranstaltung 19h – 22h \n  \nTommy’s PubQuiz! \nJetzt schon legendär! \n  \nMöge das Quizzen beginnen! \n10 Fragen pro Runde\, 3 Runden sind angepeilt\, mehr bei Zeit und Bedarf – \nEwiger Ruhm in den Galoppergeschichtsbüchern wartet auf diejenigen\, mit den richtigen Antworten. \nMacht Euch auf einen wilden Ritt durch eure Allgemeinwissensgedächtnisse bereit! \n  \n👥 Teams mit bis zu 5 Personen \nIn einer Gruppe dürfen bis zu 5 Teilnehmer quizzen. Seid ihr mehr\, teilt Ihr Euch intern am selben Tisch in mehrere Gruppen auf. \n  \n🍕 Knusprige Pizza \n🍺 8 Biere vom Fass \n🍹 Leckere Drinks \nDer Verzehr von Speisen und Getränken ist sehr erwünscht. \nBitte keine eigenen Snacks mitbringen. \n  \nReservierung dringend empfohlen um sicher dabei zu sein: \n📩 quiz@galopper-hamburg.de \n  \nAb Januar 2026 erlauben wir uns\, das Startgeld für jedes Quiz im galopper\, auf 7\,50€ zu erhöhen. \nDieses Startgeld wird verbindlich fällig\, für alle angemeldeten Personen. \nEine kostenfreie Stornierung ist bis 5 Tage vor der Veranstaltung möglich. \n  \nAB MÄRZ WERDEN WIR NEBEN JEDEM MONTAG UND DIENSTAG AUCH DEN MITTWOCH MIT QUIZZEN FÜLLEN. \n  \nBitte nur Kartenzahlung. \n\n  \nWir benötigen den Namen der Reservierenden\, die Anzahl der Teilnehmerinnen pro Tisch und die Zeit\, wann ihr kommt. \n  \nDer „galopper“ öffnet um 17h. Eine von uns bestätigte Reservierung verfällt\, wenn ihr bis um 18:30h noch nicht erschienen seid. \n  \nWir sehen uns im galopper in Eimsbüttel! Stellinger Weg 35. \n  \n„Im Galopper gewinnt nicht der Schnellste – sondern der Klügste!“
URL:https://galopper-hamburg.de/event/tommys-pubquiz-7-2-2-2/
LOCATION:Galopper\, Stellinger Weg 35\, Hamburg\, 20255\, Deutschland
ATTACH;FMTTYPE=image/jpeg:https://galopper-hamburg.de/wp-content/uploads/2024/10/Tommy.jpg
END:VEVENT
BEGIN:VEVENT
DTSTART;TZID=Europe/Berlin:20260210T183000
DTEND;TZID=Europe/Berlin:20260210T220000
DTSTAMP:20260420T102908
CREATED:20260105T162024Z
LAST-MODIFIED:20260204T111530Z
UID:3981-1770748200-1770760800@galopper-hamburg.de
SUMMARY:Kalles Kneipenquiz
DESCRIPTION:Im  galopper\, Stellinger Weg 35 \nBeginn 19h; bis 18:30h da sein. \nVeranstaltung 19h – 22h \n  \nKalles Kneipenquiz! Seit Jahren der Klassiker! Muß man erlebt haben! \n  \n\nKalles Kneipenquiz findet an jedem 2. und 3. Dienstag im Monat statt.\nEs gibt 3\, manchmal sogar 4 Raterunden mit je 10 Fragen\, in denen euer Allgemeinwissen auf charmante Art geprüft wird.\n\n  \n👥 Teams mit bis zu 5 Personen \nIn einer Gruppe dürfen bis zu 5 Teilnehmer quizzen. Seid ihr mehr\, teilt Ihr Euch intern am selben Tisch in mehrere Gruppen auf. \n  \n🍕 Knusprige Pizza \n🍺 8 Biere vom Fass \n🍹 Leckere Drinks \nDer Verzehr von Speisen und Getränken ist sehr erwünscht. \nBitte keine eigenen Snacks mitbringen. \n  \nReservierung dringend empfohlen um sicher dabei zu sein: \n📩 quiz@galopper-hamburg.de \n  \nAb Januar 2026 erlauben wir uns\, das Startgeld für jedes Quiz im galopper\, auf 7\,50€ zu erhöhen. \nDieses Startgeld wird verbindlich fällig\, für alle angemeldeten Personen. \nEine kostenfreie Stornierung ist bis 5 Tage vor der Veranstaltung möglich. \n  \nAB MÄRZ WERDEN WIR NEBEN JEDEM MONTAG UND DIENSTAG AUCH DEN MITTWOCH MIT QUIZZEN FÜLLEN. \n  \nBitte nur Kartenzahlung. \n\n  \nWir benötigen den Namen der Reservierenden\, die Anzahl der Teilnehmerinnen pro Tisch und die Zeit\, wann ihr kommt. \n  \nDer „galopper“ öffnet um 17h. Eine von uns bestätigte Reservierung verfällt\, wenn ihr bis um 18:30h noch nicht erschienen seid. \n  \nWir sehen uns im galopper in Eimsbüttel! Stellinger Weg 35. \n  \n„Im Galopper gewinnt nicht der Schnellste – sondern der Klügste!“
URL:https://galopper-hamburg.de/event/kalles-kneipenquiz-17-2/
LOCATION:Galopper\, Stellinger Weg 35\, Hamburg\, 20255\, Deutschland
ATTACH;FMTTYPE=image/jpeg:https://galopper-hamburg.de/wp-content/uploads/2024/03/kalle-e1712141723503.jpg
END:VEVENT
BEGIN:VEVENT
DTSTART;TZID=Europe/Berlin:20260216T183000
DTEND;TZID=Europe/Berlin:20260216T220000
DTSTAMP:20260420T102908
CREATED:20260105T162431Z
LAST-MODIFIED:20260204T111600Z
UID:3984-1771266600-1771279200@galopper-hamburg.de
SUMMARY:Kalles Kneipenquiz Musik-Special
DESCRIPTION:Im  galopper\, Stellinger Weg 35 \nBeginn 19h; bis 18:30h da sein. \nVeranstaltung 19h – 22h \n  \n\n\nDie neue Ausgabe eines Musik-Specials als Ableger von Kalles Kneipenquiz.  \nDas Spektrum an diesem Abend wird die Bereiche Klassik bis Punk und von Abba bis Zappa umfassen.  \nEs gibt auch was auf die Ohren!! \n\n\n  \n👥 Teams mit bis zu 5 Personen \nIn einer Gruppe dürfen bis zu 5 Teilnehmer quizzen. Seid ihr mehr\, teilt Ihr Euch intern am selben Tisch in mehrere Gruppen auf. \n  \n🍕 Knusprige Pizza \n🍺 8 Biere vom Fass \n🍹 Leckere Drinks \nDer Verzehr von Speisen und Getränken ist sehr erwünscht. \nBitte keine eigenen Snacks mitbringen. \n  \nReservierung dringend empfohlen um sicher dabei zu sein: \n📩 quiz@galopper-hamburg.de \n  \nAb Januar 2026 erlauben wir uns\, das Startgeld für jedes Quiz im galopper\, auf 7\,50€ zu erhöhen. \nDieses Startgeld wird verbindlich fällig\, für alle angemeldeten Personen. \nEine kostenfreie Stornierung ist bis 5 Tage vor der Veranstaltung möglich. \n  \nAB MÄRZ WERDEN WIR NEBEN JEDEM MONTAG UND DIENSTAG AUCH DEN MITTWOCH MIT QUIZZEN FÜLLEN. \n  \nBitte nur Kartenzahlung. \n\n  \nWir benötigen den Namen der Reservierenden\, die Anzahl der Teilnehmerinnen pro Tisch und die Zeit\, wann ihr kommt. \n  \nDer „galopper“ öffnet um 17h. Eine von uns bestätigte Reservierung verfällt\, wenn ihr bis um 18:30h noch nicht erschienen seid. \n  \nWir sehen uns im galopper in Eimsbüttel! Stellinger Weg 35. \n  \n„Im Galopper gewinnt nicht der Schnellste – sondern der Klügste!“
URL:https://galopper-hamburg.de/event/kalles-kneipenquiz-musik-special-4-3-2-2/
LOCATION:Galopper\, Stellinger Weg 35\, Hamburg\, 20255\, Deutschland
ATTACH;FMTTYPE=image/jpeg:https://galopper-hamburg.de/wp-content/uploads/2024/08/Kalle-Musik-e1724332022678.jpg
END:VEVENT
BEGIN:VEVENT
DTSTART;TZID=Europe/Berlin:20260217T183000
DTEND;TZID=Europe/Berlin:20260217T220000
DTSTAMP:20260420T102908
CREATED:20260107T095623Z
LAST-MODIFIED:20260204T111833Z
UID:3991-1771353000-1771365600@galopper-hamburg.de
SUMMARY:Kalles Kneipenquiz die 100. Ausgabe!
DESCRIPTION:Im  galopper\, Stellinger Weg 35 \nBeginn 19h; bis 18:30h da sein. \nVeranstaltung 19h – 22h \n  \nKalles Kneipenquiz! Seit Jahren der Klassiker! Muß man erlebt haben! \n  \n\nKalles Kneipenquiz findet an jedem 2. und 3. Dienstag im Monat statt.\nEs gibt 3\, manchmal sogar 4 Raterunden mit je 10 Fragen\, in denen euer Allgemeinwissen auf charmante Art geprüft wird.\n\n  \n👥 Teams mit bis zu 5 Personen \nIn einer Gruppe dürfen bis zu 5 Teilnehmer quizzen. Seid ihr mehr\, teilt Ihr Euch intern am selben Tisch in mehrere Gruppen auf. \n  \n🍕 Knusprige Pizza \n🍺 8 Biere vom Fass \n🍹 Leckere Drinks \nDer Verzehr von Speisen und Getränken ist sehr erwünscht. \nBitte keine eigenen Snacks mitbringen. \n  \nReservierung dringend empfohlen um sicher dabei zu sein: \n📩 quiz@galopper-hamburg.de \n  \nAb Januar 2026 erlauben wir uns\, das Startgeld für jedes Quiz im galopper\, auf 7\,50€ zu erhöhen. \nDieses Startgeld wird verbindlich fällig\, für alle angemeldeten Personen. \nEine kostenfreie Stornierung ist bis 5 Tage vor der Veranstaltung möglich. \n  \nAB MÄRZ WERDEN WIR NEBEN JEDEM MONTAG UND DIENSTAG AUCH DEN MITTWOCH MIT QUIZZEN FÜLLEN. \n  \nBitte nur Kartenzahlung. \n\n  \nWir benötigen den Namen der Reservierenden\, die Anzahl der Teilnehmerinnen pro Tisch und die Zeit\, wann ihr kommt. \n  \nDer „galopper“ öffnet um 17h. Eine von uns bestätigte Reservierung verfällt\, wenn ihr bis um 18:30h noch nicht erschienen seid. \n  \nWir sehen uns im galopper in Eimsbüttel! Stellinger Weg 35. \n  \n„Im Galopper gewinnt nicht der Schnellste – sondern der Klügste!“
URL:https://galopper-hamburg.de/event/kalles-kneipenquiz-17-2-2/
LOCATION:Galopper\, Stellinger Weg 35\, Hamburg\, 20255\, Deutschland
ATTACH;FMTTYPE=image/jpeg:https://galopper-hamburg.de/wp-content/uploads/2024/03/kalle-e1712141723503.jpg
END:VEVENT
BEGIN:VEVENT
DTSTART;TZID=Europe/Berlin:20260219T180000
DTEND;TZID=Europe/Berlin:20260219T180000
DTSTAMP:20260420T102908
CREATED:20260206T134053Z
LAST-MODIFIED:20260206T134802Z
UID:4173-1771524000-1771524000@galopper-hamburg.de
SUMMARY:Beyond Beer Tap Takeover im galopper
DESCRIPTION:Bei uns im Galopper steht im Februar Besuch an – und zwar aus richtig gutem Grund.\nUnsere Freunde von Beyond Beer aus der Weidenallee bauen um. Während ihres Umbaus legen sie vor Ort eine kurze Pause ein \n  \nWir veranstalten in dieser Zeit ein gemeinsames Highlight! \n  \nAm Donnerstag\, 19.2. : \n  \nBeyond Beer Tap Takeover im galopper! \nDie Beyond Crew steht selbst an der Zapfe! \nSie übernehmen zwei zusätzliche Hähne bei uns (dann insgesamt 10)\, und wir feiern gemeinsam am und um unseren Tresen. \n  \nFür Pizza ist natürlich auch wie immer gesorgt. \n  \nKommt vorbei! Das Beyond-Beer-Team und wir freuen uns auf euch! \n  \nreservierung@galopper-hamburg.de für zugesicherte Sitzplätze oder spontan rumkommen und in die Menge stürzen ! \n  \nÖffentlich. Eintritt frei. \ngalopper\, Stellinger Weg 35\, 20255 Hamburg
URL:https://galopper-hamburg.de/event/beyondbeer-im-galopper/
LOCATION:Galopper\, Stellinger Weg 35\, Hamburg\, 20255\, Deutschland
ATTACH;FMTTYPE=image/jpeg:https://galopper-hamburg.de/wp-content/uploads/2026/02/Rino.jpg
END:VEVENT
BEGIN:VEVENT
DTSTART;TZID=Europe/Berlin:20260223T183000
DTEND;TZID=Europe/Berlin:20260223T220000
DTSTAMP:20260420T102908
CREATED:20260107T095808Z
LAST-MODIFIED:20260204T163852Z
UID:3994-1771871400-1771884000@galopper-hamburg.de
SUMMARY:Jens Kneipenquiz
DESCRIPTION:Im  galopper\, Stellinger Weg 35 \nBeginn 19h; bis 18:30h da sein. \nVeranstaltung 19h – 22h \n  \nOb Hamburg-Kenner\, Musik-Freak oder heimlicher Bierprofi – beim Jens Kneipenquiz ist für alle etwas dabei! \nEuch erwarten 30 abwechslungsreiche Fragen aus aktuellen Themen\, Hamburg-Wissen\, Popkultur\, Historischem und natürlich der beliebten Kategorie „Wer bin ich?“. \n  \nModeriert wird der Abend von Jens alias @spiegl_bier_edition\, bekannt durch Bier & Brain – also: Ja\, Bier spielt mit\, aber längst nicht die Hauptrolle. \n\n\n  \n👥 Teams mit bis zu 5 Personen \nIn einer Gruppe dürfen bis zu 5 Teilnehmer quizzen. Seid ihr mehr\, teilt Ihr Euch intern am selben Tisch in mehrere Gruppen auf. \n  \n🍕 Knusprige Pizza \n🍺 8 Biere vom Fass \n🍹 Leckere Drinks \nDer Verzehr von Speisen und Getränken ist sehr erwünscht. \nBitte keine eigenen Snacks mitbringen. \n  \nReservierung dringend empfohlen um sicher dabei zu sein: \n📩 quiz@galopper-hamburg.de \n  \nDas Startgeld beträgt EUR 7\,50. \nDieses Startgeld wird verbindlich fällig\, für alle angemeldeten Personen. \nEine kostenfreie Stornierung ist bis 5 Tage vor der Veranstaltung möglich. \n  \nAB MÄRZ WERDEN WIR NEBEN JEDEM MONTAG UND DIENSTAG AUCH DEN MITTWOCH MIT QUIZZEN FÜLLEN. \n  \nBitte nur Kartenzahlung. \n\n  \nWir benötigen den Namen der Reservierenden\, die Anzahl der Teilnehmerinnen pro Tisch und die Zeit\, wann ihr kommt. \n  \nDer „galopper“ öffnet um 17h. Eine von uns bestätigte Reservierung verfällt\, wenn ihr bis um 18:30h noch nicht erschienen seid. \n  \nWir sehen uns im galopper in Eimsbüttel! Stellinger Weg 35. \n  \n„Im Galopper gewinnt nicht der Schnellste – sondern der Klügste!“
URL:https://galopper-hamburg.de/event/jens-kneipenquiz-3-2-2-2-2/
LOCATION:Galopper\, Stellinger Weg 35\, Hamburg\, 20255\, Deutschland
ATTACH;FMTTYPE=image/jpeg:https://galopper-hamburg.de/wp-content/uploads/2025/07/Jens-Quiz.jpg
END:VEVENT
BEGIN:VEVENT
DTSTART;TZID=Europe/Berlin:20260224T183000
DTEND;TZID=Europe/Berlin:20260224T220000
DTSTAMP:20260420T102908
CREATED:20260107T095957Z
LAST-MODIFIED:20260204T163920Z
UID:3997-1771957800-1771970400@galopper-hamburg.de
SUMMARY:Quiz Fünf Köpfe\, fünf Runden
DESCRIPTION:Im  galopper\, Stellinger Weg 35 \n\n\nBeginn 19h; bis 18:30h da sein. \nVeranstaltung 19h – 22h \n  \n\nFünf Köpfe\, fünf Runden. \nDie Seriensieger und Veteranen unserer Quizveranstaltungen haben beschlossen\, ein eigenes Format zu erfinden und sind jetzt schon quiz-Moderatoren Profis! \nDie Hamburger Quizgemeinde darf sich freuen! \n  \n\n\n👥 Teams mit bis zu 5 Personen \nIn einer Gruppe dürfen bis zu 5 Teilnehmer quizzen. Seid ihr mehr\, teilt Ihr Euch intern am selben Tisch in mehrere Gruppen auf. \n  \n🍕 Knusprige Pizza \n🍺 8 Biere vom Fass \n🍹 Leckere Drinks \nDer Verzehr von Speisen und Getränken ist sehr erwünscht. \nBitte keine eigenen Snacks mitbringen. \n  \nReservierung dringend empfohlen um sicher dabei zu sein: \n📩 quiz@galopper-hamburg.de \n  \nDas Startgeld beträgt EUR 7\,50. \nDieses Startgeld wird verbindlich fällig\, für alle angemeldeten Personen. \nEine kostenfreie Stornierung ist bis 5 Tage vor der Veranstaltung möglich. \n  \nAB MÄRZ WERDEN WIR NEBEN JEDEM MONTAG UND DIENSTAG AUCH DEN MITTWOCH MIT QUIZZEN FÜLLEN. \n  \nBitte nur Kartenzahlung. \n\n  \nWir benötigen den Namen der Reservierenden\, die Anzahl der Teilnehmerinnen pro Tisch und die Zeit\, wann ihr kommt. \n  \nDer „galopper“ öffnet um 17h. Eine von uns bestätigte Reservierung verfällt\, wenn ihr bis um 18:30h noch nicht erschienen seid. \n  \nWir sehen uns im galopper in Eimsbüttel! Stellinger Weg 35. \n  \n„Im Galopper gewinnt nicht der Schnellste – sondern der Klügste!“
URL:https://galopper-hamburg.de/event/fuenf-koepfe-fuenf-runden-7-2-2-2-2/
LOCATION:Galopper\, Stellinger Weg 35\, Hamburg\, 20255\, Deutschland
ATTACH;FMTTYPE=image/jpeg:https://galopper-hamburg.de/wp-content/uploads/2024/11/5Koepfe.jpg
END:VEVENT
END:VCALENDAR