BEGIN:VCALENDAR
VERSION:2.0
PRODID:-//Galopper Hamburg - ECPv6.15.20//NONSGML v1.0//EN
CALSCALE:GREGORIAN
METHOD:PUBLISH
X-WR-CALNAME:Galopper Hamburg
X-ORIGINAL-URL:https://galopper-hamburg.de
X-WR-CALDESC:Veranstaltungen für Galopper Hamburg
REFRESH-INTERVAL;VALUE=DURATION:PT1H
X-Robots-Tag:noindex
X-PUBLISHED-TTL:PT1H
BEGIN:VTIMEZONE
TZID:Europe/Berlin
BEGIN:DAYLIGHT
TZOFFSETFROM:+0100
TZOFFSETTO:+0200
TZNAME:CEST
DTSTART:20250330T010000
END:DAYLIGHT
BEGIN:STANDARD
TZOFFSETFROM:+0200
TZOFFSETTO:+0100
TZNAME:CET
DTSTART:20251026T010000
END:STANDARD
BEGIN:DAYLIGHT
TZOFFSETFROM:+0100
TZOFFSETTO:+0200
TZNAME:CEST
DTSTART:20260329T010000
END:DAYLIGHT
BEGIN:STANDARD
TZOFFSETFROM:+0200
TZOFFSETTO:+0100
TZNAME:CET
DTSTART:20261025T010000
END:STANDARD
BEGIN:DAYLIGHT
TZOFFSETFROM:+0100
TZOFFSETTO:+0200
TZNAME:CEST
DTSTART:20270328T010000
END:DAYLIGHT
BEGIN:STANDARD
TZOFFSETFROM:+0200
TZOFFSETTO:+0100
TZNAME:CET
DTSTART:20271031T010000
END:STANDARD
END:VTIMEZONE
BEGIN:VEVENT
DTSTART;TZID=Europe/Berlin:20260105T183000
DTEND;TZID=Europe/Berlin:20260105T220000
DTSTAMP:20260420T114511
CREATED:20251125T163018Z
LAST-MODIFIED:20251125T173114Z
UID:3846-1767637800-1767650400@galopper-hamburg.de
SUMMARY:Quiz: Tom's Tricky Trivia Time - 18 Themengebiete im bunten Mix. Immer dabei: "Regionales & Aktuelles"
DESCRIPTION:Im  galopper\, Stellinger Weg 35 \nBeginn 19h; bis 18:30h da sein. \nVeranstaltung 19h – 22h \n  \nThomas hat nicht nur immer einen guten Spruch auf den Lippen\, sondern ist auch noch ein fantastischer Quizmoderator. \n  \nSein eigenes Quizformat \nTom’s Tricky Trivia Time \nhat ab sofort einen festen Platz in unserem Programm! \n  \nJeden 1.Montag im Monat: \n3 Runden à 10 Fragen \n18 Themengebiete im bunten Mix. Immer dabei: „Regionales & Aktuelles“ \n  \n👥 Teams mit bis zu 5 Personen \nIn einer Gruppe dürfen bis zu 5 Teilnehmer quizzen. Seid ihr mehr\, teilt Ihr Euch intern am selben Tisch in mehrere Gruppen auf. \n  \n🍕 Knusprige Pizza \n🍺 8 Biere vom Fass \n🍹 Leckere Drinks \nDer Verzehr von Speisen und Getränken ist sehr erwünscht. \nBitte keine eigenen Snacks mitbringen. \n  \nReservierung dringend empfohlen um sicher dabei zu sein: \n📩 quiz@galopper-hamburg.de \n  \nAb Januar 2026 erlauben wir uns\, das Startgeld für jedes Quiz im galopper\, auf 7\,50€ zu erhöhen. \nDieses Startgeld wird verbindlich fällig\, für alle angemeldeten Personen. Eine kostenfreie  \nStornierung ist bis 5 Tage vor der Veranstaltung möglich. \nBitte nur Kartenzahlung. \n\n  \nWir benötigen den Namen der Reservierenden\, die Anzahl der Teilnehmerinnen pro Tisch und die Zeit\, wann ihr kommt. \n  \nDer „galopper“ öffnet um 17h. Eine von uns bestätigte Reservierung verfällt\, wenn ihr bis um 18:30h noch nicht erschienen seid. \n  \nWir sehen uns im galopper in Eimsbüttel! Stellinger Weg 35. \n  \n„Im Galopper gewinnt nicht der Schnellste – sondern der Klügste!“
URL:https://galopper-hamburg.de/event/toms-tricky-trivia-time-5-2-2-2/
LOCATION:Galopper\, Stellinger Weg 35\, Hamburg\, 20255\, Deutschland
ATTACH;FMTTYPE=image/jpeg:https://galopper-hamburg.de/wp-content/uploads/2024/11/toms-1.jpg
END:VEVENT
BEGIN:VEVENT
DTSTART;TZID=Europe/Berlin:20260106T183000
DTEND;TZID=Europe/Berlin:20260106T220000
DTSTAMP:20260420T114511
CREATED:20251125T172601Z
LAST-MODIFIED:20251229T154347Z
UID:3855-1767724200-1767736800@galopper-hamburg.de
SUMMARY:Quiz mit Andreas
DESCRIPTION:Im  galopper\, Stellinger Weg 35 \nBeginn 19h; bis 18:30h da sein. \nVeranstaltung 19h – 22h \n  \nGanze 3-mal hat Andreas schon erfolgreich als Co. bei Kalle und Co. moderiert. \nHeute füllt er den ganzen Abend mit einem schönen Mix an Fragen. \n  \n👥 Teams mit bis zu 5 Personen \nIn einer Gruppe dürfen bis zu 5 Teilnehmer quizzen. Seid ihr mehr\, teilt Ihr Euch intern am selben Tisch in mehrere Gruppen auf. \n  \n🍕 Knusprige Pizza \n🍺 8 Biere vom Fass \n🍹 Leckere Drinks \nDer Verzehr von Speisen und Getränken ist sehr erwünscht. \nBitte keine eigenen Snacks mitbringen. \n  \nReservierung dringend empfohlen um sicher dabei zu sein: \n📩 quiz@galopper-hamburg.de \n  \nAb Januar 2026 erlauben wir uns\, das Startgeld für jedes Quiz im galopper\, auf 7\,50€ zu erhöhen. \nDieses Startgeld wird verbindlich fällig\, für alle angemeldeten Personen. Eine kostenfreie  \nStornierung ist bis 5 Tage vor der Veranstaltung möglich. \nBitte nur Kartenzahlung. \n\n  \nWir benötigen den Namen der Reservierenden\, die Anzahl der Teilnehmerinnen pro Tisch und die Zeit\, wann ihr kommt. \n  \nDer „galopper“ öffnet um 17h. Eine von uns bestätigte Reservierung verfällt\, wenn ihr bis um 18:30h noch nicht erschienen seid. \n  \nWir sehen uns im galopper in Eimsbüttel! Stellinger Weg 35. \n  \n„Im Galopper gewinnt nicht der Schnellste – sondern der Klügste!“
URL:https://galopper-hamburg.de/event/quizhunger-2-2/
LOCATION:Galopper\, Stellinger Weg 35\, Hamburg\, 20255\, Deutschland
ATTACH;FMTTYPE=image/jpeg:https://galopper-hamburg.de/wp-content/uploads/2024/01/image5-scaled.jpeg
END:VEVENT
BEGIN:VEVENT
DTSTART;TZID=Europe/Berlin:20260112T183000
DTEND;TZID=Europe/Berlin:20260112T220000
DTSTAMP:20260420T114511
CREATED:20251125T181744Z
LAST-MODIFIED:20251125T181947Z
UID:3862-1768242600-1768255200@galopper-hamburg.de
SUMMARY:Tommy's PubQuiz
DESCRIPTION:Im  galopper\, Stellinger Weg 35 \nBeginn 19h; bis 18:30h da sein. \nVeranstaltung 19h – 22h \n  \nTommy’s PubQuiz! \nJetzt schon legendär! \n  \nMöge das Quizzen beginnen! \n10 Fragen pro Runde\, 3 Runden sind angepeilt\, mehr bei Zeit und Bedarf – \nEwiger Ruhm in den Galoppergeschichtsbüchern wartet auf diejenigen\, mit den richtigen Antworten. \nMacht Euch auf einen wilden Ritt durch eure Allgemeinwissensgedächtnisse bereit! \n  \n👥 Teams mit bis zu 5 Personen \nIn einer Gruppe dürfen bis zu 5 Teilnehmer quizzen. Seid ihr mehr\, teilt Ihr Euch intern am selben Tisch in mehrere Gruppen auf. \n  \n🍕 Knusprige Pizza \n🍺 8 Biere vom Fass \n🍹 Leckere Drinks \nDer Verzehr von Speisen und Getränken ist sehr erwünscht. \nBitte keine eigenen Snacks mitbringen. \n  \nReservierung dringend empfohlen um sicher dabei zu sein: \n📩 quiz@galopper-hamburg.de \n  \nAb Januar 2026 erlauben wir uns\, das Startgeld für jedes Quiz im galopper\, auf 7\,50€ zu erhöhen. \nDieses Startgeld wird verbindlich fällig\, für alle angemeldeten Personen. Eine kostenfreie  \nStornierung ist bis 5 Tage vor der Veranstaltung möglich. \nBitte nur Kartenzahlung. \n\n  \nWir benötigen den Namen der Reservierenden\, die Anzahl der Teilnehmerinnen pro Tisch und die Zeit\, wann ihr kommt. \n  \nDer „galopper“ öffnet um 17h. Eine von uns bestätigte Reservierung verfällt\, wenn ihr bis um 18:30h noch nicht erschienen seid. \n  \nWir sehen uns im galopper in Eimsbüttel! Stellinger Weg 35. \n  \n„Im Galopper gewinnt nicht der Schnellste – sondern der Klügste!“
URL:https://galopper-hamburg.de/event/tommys-pubquiz-7-2-2/
LOCATION:Galopper\, Stellinger Weg 35\, Hamburg\, 20255\, Deutschland
ATTACH;FMTTYPE=image/jpeg:https://galopper-hamburg.de/wp-content/uploads/2024/10/Tommy.jpg
END:VEVENT
BEGIN:VEVENT
DTSTART;TZID=Europe/Berlin:20260113T183000
DTEND;TZID=Europe/Berlin:20260113T220000
DTSTAMP:20260420T114511
CREATED:20251125T182403Z
LAST-MODIFIED:20251125T182446Z
UID:3866-1768329000-1768341600@galopper-hamburg.de
SUMMARY:Kalles Kneipenquiz
DESCRIPTION:Im  galopper\, Stellinger Weg 35 \nBeginn 19h; bis 18:30h da sein. \nVeranstaltung 19h – 22h \n  \nKalles Kneipenquiz! Seit Jahren der Klassiker! Muß man erlebt haben! \n  \n\nKalles Kneipenquiz findet an jedem 2. und 3. Dienstag im Monat statt.\nEs gibt 3\, manchmal sogar 4 Raterunden mit je 10 Fragen\, in denen euer Allgemeinwissen auf charmante Art geprüft wird.\n\n  \n👥 Teams mit bis zu 5 Personen \nIn einer Gruppe dürfen bis zu 5 Teilnehmer quizzen. Seid ihr mehr\, teilt Ihr Euch intern am selben Tisch in mehrere Gruppen auf. \n  \n🍕 Knusprige Pizza \n🍺 8 Biere vom Fass \n🍹 Leckere Drinks \nDer Verzehr von Speisen und Getränken ist sehr erwünscht. \nBitte keine eigenen Snacks mitbringen. \n  \nReservierung dringend empfohlen um sicher dabei zu sein: \n📩 quiz@galopper-hamburg.de \n  \nAb Januar 2026 erlauben wir uns\, das Startgeld für jedes Quiz im galopper\, auf 7\,50€ zu erhöhen. \nDieses Startgeld wird verbindlich fällig\, für alle angemeldeten Personen. Eine kostenfreie  \nStornierung ist bis 5 Tage vor der Veranstaltung möglich. \nBitte nur Kartenzahlung. \n\n  \nWir benötigen den Namen der Reservierenden\, die Anzahl der Teilnehmerinnen pro Tisch und die Zeit\, wann ihr kommt. \n  \nDer „galopper“ öffnet um 17h. Eine von uns bestätigte Reservierung verfällt\, wenn ihr bis um 18:30h noch nicht erschienen seid. \n  \nWir sehen uns im galopper in Eimsbüttel! Stellinger Weg 35. \n  \n„Im Galopper gewinnt nicht der Schnellste – sondern der Klügste!“
URL:https://galopper-hamburg.de/event/kalles-kneipenquiz-15-2-2-2-3-2-2/
LOCATION:Galopper\, Stellinger Weg 35\, Hamburg\, 20255\, Deutschland
ATTACH;FMTTYPE=image/jpeg:https://galopper-hamburg.de/wp-content/uploads/2024/03/kalle-e1712141723503.jpg
END:VEVENT
BEGIN:VEVENT
DTSTART;TZID=Europe/Berlin:20260119T183000
DTEND;TZID=Europe/Berlin:20260119T220000
DTSTAMP:20260420T114511
CREATED:20251125T182950Z
LAST-MODIFIED:20251125T182950Z
UID:3870-1768847400-1768860000@galopper-hamburg.de
SUMMARY:Jens Kneipenquiz
DESCRIPTION:Im  galopper\, Stellinger Weg 35 \nBeginn 19h; bis 18:30h da sein. \nVeranstaltung 19h – 22h \n  \nOb Hamburg-Kenner\, Musik-Freak oder heimlicher Bierprofi – beim Jens Kneipenquiz ist für alle etwas dabei! \nEuch erwarten 30 abwechslungsreiche Fragen aus aktuellen Themen\, Hamburg-Wissen\, Popkultur\, Historischem und natürlich der beliebten Kategorie „Wer bin ich?“. \n  \nModeriert wird der Abend von Jens alias @spiegl_bier_edition\, bekannt durch Bier & Brain – also: Ja\, Bier spielt mit\, aber längst nicht die Hauptrolle. \n\n\n  \n👥 Teams mit bis zu 5 Personen \nIn einer Gruppe dürfen bis zu 5 Teilnehmer quizzen. Seid ihr mehr\, teilt Ihr Euch intern am selben Tisch in mehrere Gruppen auf. \n  \n🍕 Knusprige Pizza \n🍺 8 Biere vom Fass \n🍹 Leckere Drinks \nDer Verzehr von Speisen und Getränken ist sehr erwünscht. \nBitte keine eigenen Snacks mitbringen. \n  \nReservierung dringend empfohlen um sicher dabei zu sein: \n📩 quiz@galopper-hamburg.de \n  \nAb Januar 2026 erlauben wir uns\, das Startgeld für jedes Quiz im galopper\, auf 7\,50€ zu erhöhen. \nDieses Startgeld wird verbindlich fällig\, für alle angemeldeten Personen. Eine kostenfreie  \nStornierung ist bis 5 Tage vor der Veranstaltung möglich. \nBitte nur Kartenzahlung. \n\n  \nWir benötigen den Namen der Reservierenden\, die Anzahl der Teilnehmerinnen pro Tisch und die Zeit\, wann ihr kommt. \n  \nDer „galopper“ öffnet um 17h. Eine von uns bestätigte Reservierung verfällt\, wenn ihr bis um 18:30h noch nicht erschienen seid. \n  \nWir sehen uns im galopper in Eimsbüttel! Stellinger Weg 35. \n  \n„Im Galopper gewinnt nicht der Schnellste – sondern der Klügste!“
URL:https://galopper-hamburg.de/event/jens-kneipenquiz-3-2-2-2/
LOCATION:Galopper\, Stellinger Weg 35\, Hamburg\, 20255\, Deutschland
ATTACH;FMTTYPE=image/jpeg:https://galopper-hamburg.de/wp-content/uploads/2025/07/Jens-Quiz.jpg
END:VEVENT
BEGIN:VEVENT
DTSTART;TZID=Europe/Berlin:20260120T183000
DTEND;TZID=Europe/Berlin:20260120T220000
DTSTAMP:20260420T114511
CREATED:20251125T183403Z
LAST-MODIFIED:20251125T183403Z
UID:3871-1768933800-1768946400@galopper-hamburg.de
SUMMARY:Kalles Kneipenquiz
DESCRIPTION:Im  galopper\, Stellinger Weg 35 \nBeginn 19h; bis 18:30h da sein. \nVeranstaltung 19h – 22h \n  \nKalles Kneipenquiz! Seit Jahren der Klassiker! Muß man erlebt haben! \n  \n\nKalles Kneipenquiz findet an jedem 2. und 3. Dienstag im Monat statt.\nEs gibt 3\, manchmal sogar 4 Raterunden mit je 10 Fragen\, in denen euer Allgemeinwissen auf charmante Art geprüft wird.\n\n  \n👥 Teams mit bis zu 5 Personen \nIn einer Gruppe dürfen bis zu 5 Teilnehmer quizzen. Seid ihr mehr\, teilt Ihr Euch intern am selben Tisch in mehrere Gruppen auf. \n  \n🍕 Knusprige Pizza \n🍺 8 Biere vom Fass \n🍹 Leckere Drinks \nDer Verzehr von Speisen und Getränken ist sehr erwünscht. \nBitte keine eigenen Snacks mitbringen. \n  \nReservierung dringend empfohlen um sicher dabei zu sein: \n📩 quiz@galopper-hamburg.de \n  \nAb Januar 2026 erlauben wir uns\, das Startgeld für jedes Quiz im galopper\, auf 7\,50€ zu erhöhen. \nDieses Startgeld wird verbindlich fällig\, für alle angemeldeten Personen. Eine kostenfreie  \nStornierung ist bis 5 Tage vor der Veranstaltung möglich. \nBitte nur Kartenzahlung. \n\n  \nWir benötigen den Namen der Reservierenden\, die Anzahl der Teilnehmerinnen pro Tisch und die Zeit\, wann ihr kommt. \n  \nDer „galopper“ öffnet um 17h. Eine von uns bestätigte Reservierung verfällt\, wenn ihr bis um 18:30h noch nicht erschienen seid. \n  \nWir sehen uns im galopper in Eimsbüttel! Stellinger Weg 35. \n  \n„Im Galopper gewinnt nicht der Schnellste – sondern der Klügste!“
URL:https://galopper-hamburg.de/event/kalles-kneipenquiz-17/
LOCATION:Galopper\, Stellinger Weg 35\, Hamburg\, 20255\, Deutschland
ATTACH;FMTTYPE=image/jpeg:https://galopper-hamburg.de/wp-content/uploads/2024/03/kalle-e1712141723503.jpg
END:VEVENT
BEGIN:VEVENT
DTSTART;TZID=Europe/Berlin:20260126T183000
DTEND;TZID=Europe/Berlin:20260126T220000
DTSTAMP:20260420T114511
CREATED:20251125T184004Z
LAST-MODIFIED:20251125T184152Z
UID:3878-1769452200-1769464800@galopper-hamburg.de
SUMMARY:Kalles Geo-Special Quiz
DESCRIPTION:Im  galopper\, Stellinger Weg 35\n\n\nBeginn 19h; bis 18:30h da sein. \nVeranstaltung 19h – 22h \n  \n\nBist du bereit\, dein geografisches wissen auf die Probe zu stellen? \nTauche ein in Kalles Geo-Special\, und entdecke wie gut du dich auf der Weltkarte auskennst. \nEs treffen sich Jung und Alt\, Männer und Frauen\, um sich im geografischen Wettstreit zu allgemeinen\, besonderen und unnützen Fragen aus der großen weiten Welt zu messen. \n  \n\n\n👥 Teams mit bis zu 5 Personen \nIn einer Gruppe dürfen bis zu 5 Teilnehmer quizzen. Seid ihr mehr\, teilt Ihr Euch intern am selben Tisch in mehrere Gruppen auf. \n  \n🍕 Knusprige Pizza \n🍺 8 Biere vom Fass \n🍹 Leckere Drinks \nDer Verzehr von Speisen und Getränken ist sehr erwünscht. \nBitte keine eigenen Snacks mitbringen. \n  \nReservierung dringend empfohlen um sicher dabei zu sein: \n📩 quiz@galopper-hamburg.de \n  \nAb Januar 2026 erlauben wir uns\, das Startgeld für jedes Quiz im galopper\, auf 7\,50€ zu erhöhen. \nDieses Startgeld wird verbindlich fällig\, für alle angemeldeten Personen. Eine kostenfreie  \nStornierung ist bis 5 Tage vor der Veranstaltung möglich. \nBitte nur Kartenzahlung. \n\n  \nWir benötigen den Namen der Reservierenden\, die Anzahl der Teilnehmerinnen pro Tisch und die Zeit\, wann ihr kommt. \n  \nDer „galopper“ öffnet um 17h. Eine von uns bestätigte Reservierung verfällt\, wenn ihr bis um 18:30h noch nicht erschienen seid. \n  \nWir sehen uns im galopper in Eimsbüttel! Stellinger Weg 35. \n  \n„Im Galopper gewinnt nicht der Schnellste – sondern der Klügste!“
URL:https://galopper-hamburg.de/event/kalles-geo-special-quiz-4-2-2/
LOCATION:Galopper\, Stellinger Weg 35\, Hamburg\, 20255\, Deutschland
ATTACH;FMTTYPE=image/jpeg:https://galopper-hamburg.de/wp-content/uploads/2025/01/Kalle-Geo.jpg
END:VEVENT
BEGIN:VEVENT
DTSTART;TZID=Europe/Berlin:20260127T183000
DTEND;TZID=Europe/Berlin:20260127T220000
DTSTAMP:20260420T114511
CREATED:20251125T184642Z
LAST-MODIFIED:20251125T184832Z
UID:3884-1769538600-1769551200@galopper-hamburg.de
SUMMARY:Quiz Fünf Köpfe\, fünf Runden
DESCRIPTION:Im  galopper\, Stellinger Weg 35 \n\n\nBeginn 19h; bis 18:30h da sein. \nVeranstaltung 19h – 22h \n  \n\nFünf Köpfe\, fünf Runden. \nDie Seriensieger und Veteranen unserer Quizveranstaltungen haben beschlossen\, ein eigenes Format zu erfinden und sind jetzt schon quiz-Moderatoren Profis! \nDie Hamburger Quizgemeinde darf sich freuen! \n  \n\n\n👥 Teams mit bis zu 5 Personen \nIn einer Gruppe dürfen bis zu 5 Teilnehmer quizzen. Seid ihr mehr\, teilt Ihr Euch intern am selben Tisch in mehrere Gruppen auf. \n  \n🍕 Knusprige Pizza \n🍺 8 Biere vom Fass \n🍹 Leckere Drinks \nDer Verzehr von Speisen und Getränken ist sehr erwünscht. \nBitte keine eigenen Snacks mitbringen. \n  \nReservierung dringend empfohlen um sicher dabei zu sein: \n📩 quiz@galopper-hamburg.de \n  \nAb Januar 2026 erlauben wir uns\, das Startgeld für jedes Quiz im galopper\, auf 7\,50€ zu erhöhen. \nDieses Startgeld wird verbindlich fällig\, für alle angemeldeten Personen. Eine kostenfreie  \nStornierung ist bis 5 Tage vor der Veranstaltung möglich. \nBitte nur Kartenzahlung. \n\n  \nWir benötigen den Namen der Reservierenden\, die Anzahl der Teilnehmerinnen pro Tisch und die Zeit\, wann ihr kommt. \n  \nDer „galopper“ öffnet um 17h. Eine von uns bestätigte Reservierung verfällt\, wenn ihr bis um 18:30h noch nicht erschienen seid. \n  \nWir sehen uns im galopper in Eimsbüttel! Stellinger Weg 35. \n  \n„Im Galopper gewinnt nicht der Schnellste – sondern der Klügste!“
URL:https://galopper-hamburg.de/event/fuenf-koepfe-fuenf-runden-7-2-2-2/
LOCATION:Galopper\, Stellinger Weg 35\, Hamburg\, 20255\, Deutschland
ATTACH;FMTTYPE=image/jpeg:https://galopper-hamburg.de/wp-content/uploads/2024/11/5Koepfe.jpg
END:VEVENT
END:VCALENDAR