BEGIN:VCALENDAR
VERSION:2.0
PRODID:-//Galopper Hamburg - ECPv6.15.20//NONSGML v1.0//EN
CALSCALE:GREGORIAN
METHOD:PUBLISH
X-WR-CALNAME:Galopper Hamburg
X-ORIGINAL-URL:https://galopper-hamburg.de
X-WR-CALDESC:Veranstaltungen für Galopper Hamburg
REFRESH-INTERVAL;VALUE=DURATION:PT1H
X-Robots-Tag:noindex
X-PUBLISHED-TTL:PT1H
BEGIN:VTIMEZONE
TZID:Europe/Berlin
BEGIN:DAYLIGHT
TZOFFSETFROM:+0100
TZOFFSETTO:+0200
TZNAME:CEST
DTSTART:20240331T010000
END:DAYLIGHT
BEGIN:STANDARD
TZOFFSETFROM:+0200
TZOFFSETTO:+0100
TZNAME:CET
DTSTART:20241027T010000
END:STANDARD
BEGIN:DAYLIGHT
TZOFFSETFROM:+0100
TZOFFSETTO:+0200
TZNAME:CEST
DTSTART:20250330T010000
END:DAYLIGHT
BEGIN:STANDARD
TZOFFSETFROM:+0200
TZOFFSETTO:+0100
TZNAME:CET
DTSTART:20251026T010000
END:STANDARD
BEGIN:DAYLIGHT
TZOFFSETFROM:+0100
TZOFFSETTO:+0200
TZNAME:CEST
DTSTART:20260329T010000
END:DAYLIGHT
BEGIN:STANDARD
TZOFFSETFROM:+0200
TZOFFSETTO:+0100
TZNAME:CET
DTSTART:20261025T010000
END:STANDARD
END:VTIMEZONE
BEGIN:VEVENT
DTSTART;TZID=Europe/Berlin:20251103T183000
DTEND;TZID=Europe/Berlin:20251103T220000
DTSTAMP:20260424T113646
CREATED:20250822T075801Z
LAST-MODIFIED:20251028T143850Z
UID:3516-1762194600-1762207200@galopper-hamburg.de
SUMMARY:Quiz: Tom's Tricky Trivia Time - 18 Themengebiete im bunten Mix. Immer dabei: "Regionales & Aktuelles"
DESCRIPTION:Im  galopper\, Stellinger Weg 35 \nBeginn 19:00h; bis 18:30h da sein. \nVeranstaltung 19:00h – 22h \nquiz@galopper-hamburg.de. \nThomas ist nicht nur ein begabter Barkeeper sondern auch ein fantastischer Quizmoderator. \nSein eigenes Quizformat \nTom’s Tricky Trivia Time \nhat ab sofort einen festen Platz in unserem Programm! \nJeden 1.Montag im Monat: \n3 Runden à 10 Fragen \n18 Themengebiete im bunten Mix. Immer dabei: „Regionales & Aktuelles“ \nQuizgruppen wie immer bis 5 Personen \n\n\nEs besteht die Möglichkeit sich eine richtig leckere Pizza aus unserer Küche zu bestellen. \nDer Verzehr von Speisen und Getränken ist sehr erwünscht. \nBitte keine eigenen Snacks mitbringen. \nWir schenken täglich 8 verschiedene Biere vom Fass aus. \nBitte reserviert rechtzeitig Tische \, um sicher dabei zu sein per Mail an: \nquiz@galopper-hamburg.de. \nBitte seid so lieb und sagt rechtzeitig ab\, wenn abzusehen ist\, dass ihr absagen müsst\, oder mit weniger Personen als geplant erscheint. Die Plätze sind heiß begehrt und oft schon bis zu sechs Wochen vorher ausgebucht.\nWir benötigen den Namen der Reservierenden\, die Anzahl der Teilnehmerinnen pro Tisch ( die Anzahl darf nicht mehr als 5 pro Rateteam betragen) und die Zeit\, wann ihr kommt. \nDer „galopper“ öffnet um 17h. Eine von uns bestätigte Reservierung verfällt\, wenn ihr bis um 18:30h noch nicht erschienen seid. \nWir sehen uns im galopper in Eimsbüttel! Stellinger Weg 35.
URL:https://galopper-hamburg.de/event/toms-tricky-trivia-time-5-2/
LOCATION:Galopper\, Stellinger Weg 35\, Hamburg\, 20255\, Deutschland
ATTACH;FMTTYPE=image/jpeg:https://galopper-hamburg.de/wp-content/uploads/2024/11/toms-1.jpg
END:VEVENT
BEGIN:VEVENT
DTSTART;TZID=Europe/Berlin:20251104T183000
DTEND;TZID=Europe/Berlin:20251104T220000
DTSTAMP:20260424T113646
CREATED:20250822T080011Z
LAST-MODIFIED:20250822T080011Z
UID:3519-1762281000-1762293600@galopper-hamburg.de
SUMMARY:Quizhunger
DESCRIPTION:Im  galopper\, Stellinger Weg 35 \nBeginn 19h; bis 18:30h da sein. \nVeranstaltung 19h – 22h \nquiz@galopper-hamburg.de. \nWie üblich gibt es 3 Raterunden mit je 10 Fragen\, in denen die entertainenden Damen Eure Allgemeinbildung prüfen und sich oftmals einem Schwerpunktthema widmen. \nEs besteht die Möglichkeit sich eine richtig leckere Pizza aus unserer Küche zu bestellen. \nDer Verzehr von Speisen und Getränken ist sehr erwünscht. \nBitte keine eigenen Snacks mitbringen. \nWir schenken täglich 8 verschiedene Biere vom Fass aus. \nDie Teilnahme erfordert EUR 5\,00 Startgeld von jedem Gast\, die ihr nach Veranstaltungsende bargeldlos am Tresen oder am Tisch zahlen könnt. \nBargeld gibt es bei uns nicht. Den Grund dafür erklären wir euch gerne vor Ort und persönlich. \nBitte reserviert rechtzeitig Tische für den Innenbereich\, um sicher dabei zu sein per Mail an: \nquiz@galopper-hamburg.de. \nBitte seid so lieb und sagt rechtzeitig ab\, wenn abzusehen ist\, dass ihr absagen müsst\, oder mit weniger Personen als geplant erscheint. Die Plätze sind heiß begehrt und oft schon bis zu sechs Wochen vorher ausgebucht.\nWir benötigen den Namen der Reservierenden\, die Anzahl der Teilnehmerinnen pro Tisch (die Anzahl darf nicht mehr als 5 Personen pro Rateteam betragen) und die Zeit\, wann ihr kommt. \nDer „galopper“ öffnet um 17h. Eine von uns bestätigte Reservierung verfällt\, wenn ihr bis um 18:30h noch nicht erschienen seid. \nWir sehen uns im galopper in Eimsbüttel! Stellinger Weg 35.
URL:https://galopper-hamburg.de/event/quizhunger-2/
LOCATION:Galopper\, Stellinger Weg 35\, Hamburg\, 20255\, Deutschland
ATTACH;FMTTYPE=image/jpeg:https://galopper-hamburg.de/wp-content/uploads/2024/08/quizhunger.jpg
END:VEVENT
BEGIN:VEVENT
DTSTART;TZID=Europe/Berlin:20251105T183000
DTEND;TZID=Europe/Berlin:20251105T220000
DTSTAMP:20260424T113646
CREATED:20250904T134933Z
LAST-MODIFIED:20250904T135654Z
UID:3562-1762367400-1762380000@galopper-hamburg.de
SUMMARY:„Geile Biere\, spannende Stories“ – oder „Bier trifft Buch“ – Bierverkostung einmal anders! Mit Volker Quante
DESCRIPTION:Am 5. November 2025 gibt es im „galopper“ nicht nur wie gewohnt Pizza und großartige Biere\, sondern zusätzlich noch spannende Biergeschichten und eine Bierverkostung der anderen Art. \n  \nEine Bierverkostung\, bei der Ihr nicht nur sieben richtig gute Biere probieren und viel über Bierkultur erfahren könnt\, sondern bei der Ihr auch mit lustigen Anekdoten\, schrulligen Geschichten und nachdenklichen Erzählungen unterhalten werdet. \n  \nDer Autor Volker Quante reist seit zwanzig Jahren um die Welt\, immer auf der Suche nach den besten Brauereien\, den spannendsten Bieren\, den urigsten Bierbars und den spelunkigsten Bierkellern. Was er dabei alles erlebt hat? Kann er Euch erzählen! \n  \nUnd genau das tut er am 5. November bei uns: \nAb 18:30 Uhr könnt Ihr im Galopper ankommen und Euch ein Plätzchen sichern\, um 19:00 Uhr startet die Verkostung und Volkers Bierreise. \n  \nVolker liest sechs Geschichten\, dazu werden sieben ausgewählte Biere serviert – und natürlich bleibt genügend Zeit\, um unsere schmackhaften Snacks zu genießen. \n  \nWartet’s ab! Er wird Geschichten vorlesen\, Dialoge nachspielen\, lustige und traurige Erlebnisse mit Euch teilen. Und er verspricht Euch: Ihr werdet Euch keine Sekunde langweilen! \n  \nSave the Date! \n  \n„Geile Biere\, spannende Stories“ – oder „Bier trifft Buch“ – Bierverkostung einmal anders! \n  \n\nEntertainment\, 7 Biere und Snacks für 49\,00 € pro Person\nErscheinen bis 18:30 Uhr\, Beginn 19:00 Uhr\nTickets vorab hier auf der Homepage buchen
URL:https://galopper-hamburg.de/event/bier-trifft-buch/
LOCATION:Galopper\, Stellinger Weg 35\, Hamburg\, 20255\, Deutschland
ATTACH;FMTTYPE=image/jpeg:https://galopper-hamburg.de/wp-content/uploads/2025/09/Volker-Quan.jpg
END:VEVENT
BEGIN:VEVENT
DTSTART;TZID=Europe/Berlin:20251110T183000
DTEND;TZID=Europe/Berlin:20251110T220000
DTSTAMP:20260424T113646
CREATED:20250922T103256Z
LAST-MODIFIED:20250922T103607Z
UID:3618-1762799400-1762812000@galopper-hamburg.de
SUMMARY:Tommy's PubQuiz
DESCRIPTION:Im  galopper\, Stellinger Weg 35 \nBeginn 19h; bis 18:30h da sein. \nVeranstaltung 19h – 22h \nquiz@galopper-hamburg.de. \nTommy’s PubQuiz! Jetzt schon legendär! \n  \nMöge das Quizzen beginnen! \n10 Fragen pro Runde\, 3 Runden sind angepeilt\, mehr bei Zeit und Bedarf – \nEwiger Ruhm in den Galoppergeschichtsbüchern wartet auf diejenigen\, mit den richtigen Antworten. \nMacht Euch auf einen wilden ritt durch eure Allgemeinwissensgedächtnisse bereit! \n  \nEs besteht die Möglichkeit sich eine richtig leckere Pizza aus unserer Küche zu bestellen. \nDer Verzehr von Speisen und Getränken ist sehr erwünscht. \nBitte keine eigenen Snacks mitbringen. \nWir schenken täglich 8 verschiedene Biere vom Fass aus. \nBitte reserviert rechtzeitig Tische \, um sicher dabei zu sein per Mail an: \nquiz@galopper-hamburg.de. \nBitte seid so lieb und sagt rechtzeitig ab\, wenn abzusehen ist\, dass ihr absagen müsst\, oder mit weniger Personen als geplant erscheint. Die Plätze sind heiß begehrt und oft schon bis zu sechs Wochen vorher ausgebucht.\nWir benötigen den Namen der Reservierenden\, die Anzahl der Teilnehmerinnen pro Tisch (die Anzahl darf nicht mehr als 5 Personen pro Rateteam betragen) und die Zeit\, wann ihr kommt. \nDer „galopper“ öffnet um 17h. Eine von uns bestätigte Reservierung verfällt\, wenn ihr bis um 18:30h noch nicht erschienen seid. \nWir sehen uns im galopper in Eimsbüttel! Stellinger Weg 35.
URL:https://galopper-hamburg.de/event/tommys-pubquiz-7-2/
LOCATION:Galopper\, Stellinger Weg 35\, Hamburg\, 20255\, Deutschland
ATTACH;FMTTYPE=image/jpeg:https://galopper-hamburg.de/wp-content/uploads/2024/10/Tommy.jpg
END:VEVENT
BEGIN:VEVENT
DTSTART;TZID=Europe/Berlin:20251111T183000
DTEND;TZID=Europe/Berlin:20251111T220000
DTSTAMP:20260424T113646
CREATED:20250922T103800Z
LAST-MODIFIED:20250922T103800Z
UID:3622-1762885800-1762898400@galopper-hamburg.de
SUMMARY:Kalles Kneipenquiz
DESCRIPTION:Kalles Kneipenquiz\n\nBeginn 19h; bis 18:30h da sein. \nVeranstaltung 19h – 22h \nquiz@galopper-hamburg.de \n\nDie Quizze an jedem Dienstag in der Woche erfreuen sich einer unglaublichen Beliebtheit.\n\nGenauso wie die Möglichkeit sich eine richtig leckere Pizza aus unserer Küche zu bestellen.\nBitte keine eigenen Snacks mitbringen.\nDer Verzehr von Speisen und Getränken ist sehr erwünscht.\nWir schenken täglich 8 verschiedene Biere vom Fass aus.\n\nKalle bleibt zum Glück Kalle! Der Klassiker!\nKalles Kneipenquiz findet an jedem 2. und 3. Dienstag im Monat statt!!!\nEs gibt 3\, manchmal sogar 4 Raterunden mit je 10 Fragen\, in denen euer Allgemeinwissen auf charmante Art geprüft wird.\nDie Teilnahme erfordert EUR 5\,00 Startgeld von jedem Gast\, die ihr nach Veranstaltungsende bargeldlos am Tresen oder am Tisch zahlen könnt.\nBargeld gibt es bei uns nicht mehr. Den Grund dafür erklären wir euch gerne vor Ort und persönlich.\nBitte reserviert rechtzeitig Tische für das Quiz per Mail an:\n\nquiz@galopper-hamburg.de. \n\nBitte seid so lieb und sagt rechtzeitig ab\, wenn abzusehen ist\, dass ihr absagen müsst\, oder mit weniger Personen als geplant erscheint. Die Plätze sind heiß begehrt und oft schon bis zu sechs Wochen im Vorweg ausgebucht.\n\nWir benötigen den Namen der Reservierenden\, die Anzahl der Teilnehmerinnen pro Tisch ( die Anzahl darf laut Kalles Regeln nicht mehr als 5 pro Rateteam betragen) und die Zeit\, wann ihr kommt.\nDer „galopper“ öffnet um 17h. Eine von uns bestätigte Reservierung verfällt\, wenn ihr bis um 18:30h noch nicht erschienen seid.\n\nWir sehen uns in Eimsbüttel! Stellinger Weg 35.
URL:https://galopper-hamburg.de/event/kalles-kneipenquiz-15-2-2-2/
LOCATION:Galopper\, Stellinger Weg 35\, Hamburg\, 20255\, Deutschland
ATTACH;FMTTYPE=image/jpeg:https://galopper-hamburg.de/wp-content/uploads/2024/03/kalle-e1712141723503.jpg
END:VEVENT
BEGIN:VEVENT
DTSTART;TZID=Europe/Berlin:20251115T180000
DTEND;TZID=Europe/Berlin:20251115T180000
DTSTAMP:20260424T113646
CREATED:20251106T084330Z
LAST-MODIFIED:20251106T134118Z
UID:3767-1763229600-1763229600@galopper-hamburg.de
SUMMARY:Weihnachtseinläuten im Galopper mit HANCOCK CIDER und der IT`S A WRAP Brewing Company
DESCRIPTION:Weihnachtseinläuten im galopper \nAm 15.11.2025 ab 18:00 Uhr wird’s bei uns richtig festlich – denn Hancock Cider kommt mit seiner eigenen mobilen Bar in den Galopper! Sein Bike wird weihnachtlich geschmückt sein und er bringt sein komplettes Sortiment mit – absoluter Hingucker des Abends: Hot Spiced Cider! perfekt zum Aufwärmen! \nUnd weil ein Highlight nicht genug ist\, wird Simon von der der IT`S A WRAP Brewing Company ebenfalls vor Ort sein und das Event mit einem frischen Fass High Roller Double IPA vom Hahn bereichern. ( Kommt Euch das Bier bekannt vor? Richtig – der Geheimtipp von der HH Beer Week ;-)) \nUnsere Weihnachtspizza feiert Premiere. \nEbenso unser weihnachtlich interpretiertes Tiramisu. \nUnd Glühwein gibt’s selbstverständlich auch! \nKommt vorbei\, stoßt mit uns auf die schönste Zeit des Jahres an und genießt warmen und kalten Cider\, verschiedene Biere vom Fass ( an dem Abend 9 !! an der Zahl ) und leckere Pizza! \nWir freuen uns auf euch! \nÖffentlich. Eintritt frei. 
URL:https://galopper-hamburg.de/event/weihnachtseinlaeuten-im-galopper/
LOCATION:Galopper\, Stellinger Weg 35\, Hamburg\, 20255\, Deutschland
ATTACH;FMTTYPE=image/jpeg:https://galopper-hamburg.de/wp-content/uploads/2025/11/Cider-scaled.jpg
END:VEVENT
BEGIN:VEVENT
DTSTART;TZID=Europe/Berlin:20251116T150000
DTEND;TZID=Europe/Berlin:20251116T200000
DTSTAMP:20260424T113646
CREATED:20251107T082908Z
LAST-MODIFIED:20251107T082951Z
UID:3800-1763305200-1763323200@galopper-hamburg.de
SUMMARY:Mysuru - Experience Karnataka on your plate
DESCRIPTION:Experience Karnataka on your plate! \nSavor the flavors of Mysuru’s iconic street food\, dive into the varieties of ghee roast\, and indulge in the legendary Mysuru Masala Dose and Ambur Biriyani combined with Iconic craft beers 🍺 \n  \nWhere every bite is a journey through tradition and taste ! 😍 \n  \nJoin us on 16.11.2025\, 3 Pm onwards! \n  \nReservation: Mail: mysurubites2024@gmail.com \n  \nErleben Sie Karnataka auf Ihrem Teller! \nGenießen Sie die Aromen von Mysurus legendärem Streetfood\, tauchen Sie ein in die verschiedenen Ghee-Braten und gönnen Sie sich die legendäre Mysuru Masala Dose und Ambur Biriyani in Kombination mit ikonischen Craft-Bieren 🍺 \n  \nWo jeder Bissen eine Reise durch Tradition und Geschmack ist! 😍 \n  \nSeien Sie am 16.11.2025 ab 15 Uhr dabei! \n  \nReservieren: Mail: mysurubites2024@gmail.com
URL:https://galopper-hamburg.de/event/mysuru-bites-pop-up-2-2-2/
LOCATION:Galopper\, Stellinger Weg 35\, Hamburg\, 20255\, Deutschland
ATTACH;FMTTYPE=image/jpeg:https://galopper-hamburg.de/wp-content/uploads/2025/11/mysuru.jpg
ORGANIZER;CN="Mysuru Bites":MAILTO:mysurubites2024@gmail.com
END:VEVENT
BEGIN:VEVENT
DTSTART;TZID=Europe/Berlin:20251117T183000
DTEND;TZID=Europe/Berlin:20251117T220000
DTSTAMP:20260424T113646
CREATED:20250922T104055Z
LAST-MODIFIED:20250922T104055Z
UID:3625-1763404200-1763416800@galopper-hamburg.de
SUMMARY:Kalles Kneipenquiz Musik-Special
DESCRIPTION:Kalles Kneipenquiz Musik-Special!!\n\nBeginn 19h; bis 18:30h da sein. \nVeranstaltung 19h – 22h \nquiz@galopper-hamburg.de \n  \nDie neue Ausgabe eines Musik-Specials als Ableger von Kalles Kneipenquiz.  \nDas Spektrum an diesem Abend wird die Bereiche Klassik bis Punk und von Abba bis Zappa umfassen.  \nEs gibt auch was auf die Ohren!! \n  \n\nBitte keine eigenen Snacks mitbringen.\nDer Verzehr von Speisen und Getränken ist sehr erwünscht.\nWir schenken täglich 8 verschiedene Biere vom Fass aus.\n\nDie Teilnahme erfordert EUR 5\,00 Startgeld von jedem Gast\, die ihr nach Veranstaltungsende bargeldlos am Tresen oder am Tisch zahlen könnt.\nBargeld gibt es bei uns nicht. Den Grund dafür erklären wir euch gerne vor Ort und persönlich.\n\nBitte reserviert rechtzeitig Tische für das Quiz per Mail an:\n\nquiz@galopper-hamburg.de. \n\nBitte seid so lieb und sagt rechtzeitig ab\, wenn abzusehen ist\, dass ihr absagen müsst\, oder mit weniger Personen als geplant erscheint. Die Plätze sind heiß begehrt und oft schon bis zu sechs Wochen im Vorweg ausgebucht.\n\nWir benötigen den Namen der Reservierenden\, die Anzahl der Teilnehmerinnen pro Tisch ( die Anzahl darf laut Kalles Regeln nicht mehr als 5 pro Rateteam betragen) und die Zeit\, wann ihr kommt.\nDer „galopper“ öffnet um 17h. Eine von uns bestätigte Reservierung verfällt\, wenn ihr bis um 18:30h noch nicht erschienen seid.\n\nWir sehen uns in Eimsbüttel! Stellinger Weg 35.
URL:https://galopper-hamburg.de/event/kalles-kneipenquiz-musik-special-4-3-2/
LOCATION:Galopper\, Stellinger Weg 35\, Hamburg\, 20255\, Deutschland
ATTACH;FMTTYPE=image/jpeg:https://galopper-hamburg.de/wp-content/uploads/2024/08/Kalle-Musik-e1724332022678.jpg
END:VEVENT
BEGIN:VEVENT
DTSTART;TZID=Europe/Berlin:20251118T183000
DTEND;TZID=Europe/Berlin:20251118T220000
DTSTAMP:20260424T113646
CREATED:20250922T104716Z
LAST-MODIFIED:20250922T104716Z
UID:3628-1763490600-1763503200@galopper-hamburg.de
SUMMARY:Kalles Kneipenquiz
DESCRIPTION:Kalles Kneipenquiz\n\nBeginn 19h; bis 18:30h da sein. \nVeranstaltung 19h – 22h \nquiz@galopper-hamburg.de \n\nDie Quizze an jedem Dienstag in der Woche erfreuen sich einer unglaublichen Beliebtheit.\n\nGenauso wie die Möglichkeit sich eine richtig leckere Pizza aus unserer Küche zu bestellen.\nBitte keine eigenen Snacks mitbringen.\nDer Verzehr von Speisen und Getränken ist sehr erwünscht.\nWir schenken täglich 8 verschiedene Biere vom Fass aus.\n\nKalle bleibt zum Glück Kalle! Der Klassiker!\nKalles Kneipenquiz findet an jedem 2. und 3. Dienstag im Monat statt!!!\nEs gibt 3\, manchmal sogar 4 Raterunden mit je 10 Fragen\, in denen euer Allgemeinwissen auf charmante Art geprüft wird.\nDie Teilnahme erfordert EUR 5\,00 Startgeld von jedem Gast\, die ihr nach Veranstaltungsende bargeldlos am Tresen oder am Tisch zahlen könnt.\nBargeld gibt es bei uns nicht mehr. Den Grund dafür erklären wir euch gerne vor Ort und persönlich.\nBitte reserviert rechtzeitig Tische für das Quiz per Mail an:\n\nquiz@galopper-hamburg.de. \n\nBitte seid so lieb und sagt rechtzeitig ab\, wenn abzusehen ist\, dass ihr absagen müsst\, oder mit weniger Personen als geplant erscheint. Die Plätze sind heiß begehrt und oft schon bis zu sechs Wochen im Vorweg ausgebucht.\n\nWir benötigen den Namen der Reservierenden\, die Anzahl der Teilnehmerinnen pro Tisch ( die Anzahl darf laut Kalles Regeln nicht mehr als 5 pro Rateteam betragen) und die Zeit\, wann ihr kommt.\nDer „galopper“ öffnet um 17h. Eine von uns bestätigte Reservierung verfällt\, wenn ihr bis um 18:30h noch nicht erschienen seid.\n\nWir sehen uns in Eimsbüttel! Stellinger Weg 35.
URL:https://galopper-hamburg.de/event/kalles-kneipenquiz-15-2-2-2-2/
LOCATION:Galopper\, Stellinger Weg 35\, Hamburg\, 20255\, Deutschland
ATTACH;FMTTYPE=image/jpeg:https://galopper-hamburg.de/wp-content/uploads/2024/03/kalle-e1712141723503.jpg
END:VEVENT
BEGIN:VEVENT
DTSTART;TZID=Europe/Berlin:20251124T183000
DTEND;TZID=Europe/Berlin:20251124T220000
DTSTAMP:20260424T113646
CREATED:20250922T105028Z
LAST-MODIFIED:20250922T105106Z
UID:3631-1764009000-1764021600@galopper-hamburg.de
SUMMARY:Kalles Geo-Special Quiz
DESCRIPTION:Kalles Geo-Special Quiz\n\nBeginn 19h; bis 18:30h da sein. \nVeranstaltung 19h – 22h \nquiz@galopper-hamburg.de \n\n\nDenksport! \nBist du bereit\, dein geografisches wissen auf die Probe zu stellen? Tauche ein in Kalles Geo-Special\, und entdecke wie gut du dich auf der Weltkarte auskennst. \nEs treffen sich Jung und Alt\, Männer und Frauen in Teams mit bis zu fünf Personen\, um sich im geografischen Wettstreit zu allgemeinen\, besonderen und unnützen Fragen aus der großen weiten Welt zu messen. \n\nDie Teilnahme erfordert EUR 5\,00 Startgeld von jedem Gast\, die ihr nach Veranstaltungsende bargeldlos am Tresen oder am Tisch zahlen könnt.\nBargeld gibt es bei uns nicht. Den Grund dafür erklären wir euch gerne vor Ort und persönlich.\nBitte reserviert rechtzeitig Tische für das Quiz per Mail an:\n\nquiz@galopper-hamburg.de. \n\nBitte seid so lieb und sagt rechtzeitig ab\, wenn abzusehen ist\, dass ihr absagen müsst\, oder mit weniger Personen als geplant erscheint. Die Plätze sind heiß begehrt und oft schon bis zu sechs Wochen im Vorweg ausgebucht.\n\nWir benötigen den Namen der Reservierenden\, die Anzahl der Teilnehmerinnen pro Tisch ( die Anzahl darf laut Kalles Regeln nicht mehr als fünf pro Rateteam betragen) und die Zeit\, wann ihr kommt.\nDer „galopper“ öffnet um 17h. Eine von uns bestätigte Reservierung verfällt\, wenn ihr bis um 18:30h noch nicht erschienen seid.\n\nWir sehen uns in Eimsbüttel! Stellinger Weg 35.
URL:https://galopper-hamburg.de/event/kalles-geo-special-quiz-4-2/
LOCATION:Galopper\, Stellinger Weg 35\, Hamburg\, 20255\, Deutschland
ATTACH;FMTTYPE=image/jpeg:https://galopper-hamburg.de/wp-content/uploads/2025/01/Kalle-Geo.jpg
END:VEVENT
BEGIN:VEVENT
DTSTART;TZID=Europe/Berlin:20251125T183000
DTEND;TZID=Europe/Berlin:20251125T220000
DTSTAMP:20260424T113646
CREATED:20250922T105253Z
LAST-MODIFIED:20250922T105253Z
UID:3634-1764095400-1764108000@galopper-hamburg.de
SUMMARY:Quiz Fünf Köpfe\, fünf Runden
DESCRIPTION:Im  galopper\, Stellinger Weg 35 \nBeginn 19h; bis 18:30h da sein. \nVeranstaltung 19h – 22h \nquiz@galopper-hamburg.de. \nFünf Köpfe\, fünf Runden. \nDie Seriensieger und Veteranen unserer Quizveranstaltungen haben beschlossen\, ein eigenes Format zu erfinden und sind jetzt schon quiz-Moderatoren Profis! \nDie Hamburger Quizgemeinde darf sich freuen! \n  \nEs besteht die Möglichkeit sich eine richtig leckere Pizza aus unserer Küche zu bestellen. \nDer Verzehr von Speisen und Getränken ist sehr erwünscht. \nBitte keine eigenen Snacks mitbringen. \nWir schenken täglich 8 verschiedene Biere vom Fass aus. \n  \nEs gibt 5 Raterunden ( eine davon mit Ton…) mit Fragen\, in denen euer Allgemeinwissen auf charmante Art geprüft wird. \nDie Teilnahme erfordert EUR 5\,00 Startgeld von jedem Gast\, die ihr nach Veranstaltungsende bargeldlos am Tresen oder am Tisch zahlen könnt. \nBargeld gibt es bei uns nicht. Den Grund dafür erklären wir euch gerne vor Ort und persönlich. \nBitte reserviert rechtzeitig Tische für den Innenbereich\, um sicher dabei zu sein per Mail an: \nquiz@galopper-hamburg.de. \nBitte seid so lieb und sagt rechtzeitig ab\, wenn abzusehen ist\, dass ihr absagen müsst\, oder mit weniger Personen als geplant erscheint. Die Plätze sind heiß begehrt und oft schon bis zu sechs Wochen vorher ausgebucht.\nWir benötigen den Namen der Reservierenden\, die Anzahl der Teilnehmerinnen pro Tisch (die Anzahl darf nicht mehr als 5 Personen pro Rateteam betragen) und die Zeit\, wann ihr kommt. \nDer „galopper“ öffnet um 17h. Eine von uns bestätigte Reservierung verfällt\, wenn ihr bis um 18:30h noch nicht erschienen seid. \nWir sehen uns im galopper in Eimsbüttel! Stellinger Weg 35.
URL:https://galopper-hamburg.de/event/fuenf-koepfe-fuenf-runden-7-2-2/
LOCATION:Galopper\, Stellinger Weg 35\, Hamburg\, 20255\, Deutschland
ATTACH;FMTTYPE=image/jpeg:https://galopper-hamburg.de/wp-content/uploads/2024/11/5Koepfe.jpg
END:VEVENT
END:VCALENDAR