BEGIN:VCALENDAR
VERSION:2.0
PRODID:-//Galopper Hamburg - ECPv6.15.20//NONSGML v1.0//EN
CALSCALE:GREGORIAN
METHOD:PUBLISH
X-ORIGINAL-URL:https://galopper-hamburg.de
X-WR-CALDESC:Veranstaltungen für Galopper Hamburg
REFRESH-INTERVAL;VALUE=DURATION:PT1H
X-Robots-Tag:noindex
X-PUBLISHED-TTL:PT1H
BEGIN:VTIMEZONE
TZID:Europe/Berlin
BEGIN:DAYLIGHT
TZOFFSETFROM:+0100
TZOFFSETTO:+0200
TZNAME:CEST
DTSTART:20240331T010000
END:DAYLIGHT
BEGIN:STANDARD
TZOFFSETFROM:+0200
TZOFFSETTO:+0100
TZNAME:CET
DTSTART:20241027T010000
END:STANDARD
BEGIN:DAYLIGHT
TZOFFSETFROM:+0100
TZOFFSETTO:+0200
TZNAME:CEST
DTSTART:20250330T010000
END:DAYLIGHT
BEGIN:STANDARD
TZOFFSETFROM:+0200
TZOFFSETTO:+0100
TZNAME:CET
DTSTART:20251026T010000
END:STANDARD
BEGIN:DAYLIGHT
TZOFFSETFROM:+0100
TZOFFSETTO:+0200
TZNAME:CEST
DTSTART:20260329T010000
END:DAYLIGHT
BEGIN:STANDARD
TZOFFSETFROM:+0200
TZOFFSETTO:+0100
TZNAME:CET
DTSTART:20261025T010000
END:STANDARD
END:VTIMEZONE
BEGIN:VTIMEZONE
TZID:Europe/Paris
BEGIN:DAYLIGHT
TZOFFSETFROM:+0100
TZOFFSETTO:+0200
TZNAME:CEST
DTSTART:20240331T010000
END:DAYLIGHT
BEGIN:STANDARD
TZOFFSETFROM:+0200
TZOFFSETTO:+0100
TZNAME:CET
DTSTART:20241027T010000
END:STANDARD
BEGIN:DAYLIGHT
TZOFFSETFROM:+0100
TZOFFSETTO:+0200
TZNAME:CEST
DTSTART:20250330T010000
END:DAYLIGHT
BEGIN:STANDARD
TZOFFSETFROM:+0200
TZOFFSETTO:+0100
TZNAME:CET
DTSTART:20251026T010000
END:STANDARD
BEGIN:DAYLIGHT
TZOFFSETFROM:+0100
TZOFFSETTO:+0200
TZNAME:CEST
DTSTART:20260329T010000
END:DAYLIGHT
BEGIN:STANDARD
TZOFFSETFROM:+0200
TZOFFSETTO:+0100
TZNAME:CET
DTSTART:20261025T010000
END:STANDARD
END:VTIMEZONE
BEGIN:VEVENT
DTSTART;TZID=Europe/Berlin:20250803T170000
DTEND;TZID=Europe/Berlin:20250803T210000
DTSTAMP:20260424T174057
CREATED:20250714T191104Z
LAST-MODIFIED:20250714T191336Z
UID:3365-1754240400-1754254800@galopper-hamburg.de
SUMMARY:Mysuru Bites pop-up
DESCRIPTION:Experience Karnataka on your plate! \nSavor the flavors of Mysuru’s iconic street food\, dive into the varieties of ghee roast\, and indulge in the legendary Mysuru Masala Dose and Donne Biriyani combined with Iconic craft beers 🍺 \nWhere every bite is a journey through tradition and taste ! 😍 \n  \nJoin us on 03.08.2025\, 5pm onwards! \n  \nReservation: Mail: mysurubites2024@gmail.com \n  \nErleben Sie Karnataka auf Ihrem Teller!\nGenießen Sie die Aromen von Mysurus legendärem Streetfood\, tauchen Sie ein in die verschiedenen Ghee-Braten und gönnen Sie sich die legendäre Mysuru Masala Dose und Donne Biriyani in Kombination mit ikonischen Craft-Bieren 🍺 \n  \nWo jeder Bissen eine Reise durch Tradition und Geschmack ist! 😍 \nSeien Sie am 03.08.2025 ab 17 Uhr dabei! \n  \nReservieren: Mail: mysurubites2024@gmail.com
URL:https://galopper-hamburg.de/event/mysuru-bites-pop-up-2/
LOCATION:Galopper\, Stellinger Weg 35\, Hamburg\, 20255\, Deutschland
ATTACH;FMTTYPE=image/jpeg:https://galopper-hamburg.de/wp-content/uploads/2025/07/Mysuru.jpg
ORGANIZER;CN="Mysuru Bites":MAILTO:mysurubites2024@gmail.com
END:VEVENT
BEGIN:VEVENT
DTSTART;TZID=Europe/Paris:20250804T183000
DTEND;TZID=Europe/Paris:20250804T220000
DTSTAMP:20260424T174057
CREATED:20250527T091557Z
LAST-MODIFIED:20250527T091557Z
UID:3084-1754332200-1754344800@galopper-hamburg.de
SUMMARY:Quiz: Tom's Tricky Trivia Time - 18 Themengebiete im bunten Mix. Immer dabei: "Regionales & Aktuelles"
DESCRIPTION:Im  galopper\, Stellinger Weg 35 \nBeginn 19:30h; bis 19:00h da sein. \nVeranstaltung 19:30h – 22h \nquiz@galopper-hamburg.de. \nThomas ist nicht nur ein begabter Barkeeper sondern auch ein fantastischer Quizmoderator. \nSein eigenes Quizformat \nTom’s Tricky Trivia Time \nhat ab sofort einen festen Platz in unserem Programm! \nJeden 1.Montag im Monat: \n3 Runden à 10 Fragen \n18 Themengebiete im bunten Mix. Immer dabei: „Regionales & Aktuelles“ \nQuizgruppen wie immer bis 5 Personen \n\n\nEs besteht die Möglichkeit sich eine richtig leckere Pizza aus unserer Küche zu bestellen. \nDer Verzehr von Speisen und Getränken ist sehr erwünscht. \nBitte keine eigenen Snacks mitbringen. \nWir schenken täglich 8 verschiedene Biere vom Fass aus. \nBitte reserviert rechtzeitig Tische \, um sicher dabei zu sein per Mail an: \nquiz@galopper-hamburg.de. \nBitte seid so lieb und sagt rechtzeitig ab\, wenn abzusehen ist\, dass ihr absagen müsst\, oder mit weniger Personen als geplant erscheint. Die Plätze sind heiß begehrt und oft schon bis zu sechs Wochen vorher ausgebucht.\nWir benötigen den Namen der Reservierenden\, die Anzahl der Teilnehmerinnen pro Tisch ( die Anzahl darf nicht mehr als 5 pro Rateteam betragen) und die Zeit\, wann ihr kommt. \nDer „galopper“ öffnet um 17h. Eine von uns bestätigte Reservierung verfällt\, wenn ihr bis um 18:30h noch nicht erschienen seid. \nWir sehen uns im galopper in Eimsbüttel! Stellinger Weg 35.
URL:https://galopper-hamburg.de/event/toms-tricky-trivia-time-4/
LOCATION:Galopper\, Stellinger Weg 35\, Hamburg\, 20255\, Deutschland
ATTACH;FMTTYPE=image/jpeg:https://galopper-hamburg.de/wp-content/uploads/2024/11/toms-1.jpg
END:VEVENT
BEGIN:VEVENT
DTSTART;TZID=Europe/Paris:20250805T183000
DTEND;TZID=Europe/Paris:20250805T220000
DTSTAMP:20260424T174057
CREATED:20250527T091829Z
LAST-MODIFIED:20250527T091829Z
UID:3086-1754418600-1754431200@galopper-hamburg.de
SUMMARY:galopper-Quiz mit Kalle & Co.
DESCRIPTION:Beginn 19h; bis 18:30h da sein. \nVeranstaltung 19h – 22h \nquiz@galopper-hamburg.de \n  \nDas Konzept sieht vor\, dass ein zweiter Moderator ( Kalles „Sidekick“ ) eine Runde mit 10 Fragen moderiert. \nEs gibt 3\, manchmal sogar 4 Raterunden mit je 10 Fragen\, in denen euer Allgemeinwissen auf charmante Art geprüft wird. \nDie Teilnahme erfordert EUR 5\,00 Startgeld von jedem Gast\, die ihr nach Veranstaltungsende bargeldlos am Tresen oder am Tisch zahlen könnt. \nIhr habt die Möglichkeit\, euch eine richtig leckere Pizza aus unserer Küche zu bestellen. \nDer Verzehr von unseren Speisen und Getränken ist sehr erwünscht. \nBitte keine eigenen Snacks mitbringen. \nWir schenken täglich 8 verschiedene Biere vom Fass aus. \nBargeld gibt es im neuen Laden nicht mehr. Den Grund dafür erklären wir euch gerne vor Ort und persönlich. \nBitte reserviert rechtzeitig Tische für das Quiz per Mail an: \nquiz@galopper-hamburg.de. \nBitte seid so lieb und sagt rechtzeitig ab\, wenn abzusehen ist\, dass ihr absagen müsst\, oder mit weniger Personen als geplant erscheint. Die Plätze sind heiß begehrt und oft schon bis zu sechs Wochen im Vorweg ausgebucht.\nWir benötigen den Namen der Reservierenden\, die Anzahl der Teilnehmerinnen pro Tisch ( die Anzahl darf laut Kalles Regeln nicht mehr als 5 pro Rateteam betragen) und die Zeit\, wann ihr kommt. \nDer „galopper“ öffnet um 17h. Eine von uns bestätigte Reservierung verfällt\, wenn ihr bis um 18:30h noch nicht erschienen seid. \nWir sehen uns in Eimsbüttel! Stellinger Weg 35.
URL:https://galopper-hamburg.de/event/galopper-quiz-mit-kalle-co-5/
LOCATION:Galopper\, Stellinger Weg 35\, Hamburg\, 20255\, Deutschland
ATTACH;FMTTYPE=image/jpeg:https://galopper-hamburg.de/wp-content/uploads/2024/03/kalle-co.jpg
END:VEVENT
BEGIN:VEVENT
DTSTART;TZID=Europe/Berlin:20250811T183000
DTEND;TZID=Europe/Berlin:20250811T220000
DTSTAMP:20260424T174057
CREATED:20250724T112724Z
LAST-MODIFIED:20250724T113147Z
UID:3409-1754937000-1754949600@galopper-hamburg.de
SUMMARY:Jens Kneipenquiz im Galopper: Alleskönner-Wissen!
DESCRIPTION:bis 18:30h da sein; \n19h Start ( 19 – ca. 22h ) \nOb Serien-Nerd\, Hamburg-Kenner\, Musik-Freak oder heimlicher Bierprofi – bei Jens Kneipenquiz ist für alle was dabei! Euch erwarten 30 spannende Fragen aus der Welt des Allgemeinwissens: von Hamburg bis Hollywood\, von Biersorten bis Popkultur – alles\, was Quiz Freunde lieben. \nModeriert wird der Abend von Jens alias @spiegl_bier_edition\, bekannt durch Bier & Brain – also: Ja\, Bier spielt mit\, aber längst nicht die Hauptrolle. \n👥 Teams mit bis zu 5 Personen\n🍕 Leckere Pizza & viele Biere vom Fass \n„Im Galopper gewinnt nicht der Schnellste – sondern der Klügste!“ \nReservierung dringend empfohlen:\n📩 quiz@galopper-hamburg.de \nIn einer Gruppe dürfen bis zu 5 Teilnehmer quizzen. Seid ihr mehr\, teilt Ihr Euch intern am selben Tisch in mehrere Gruppen auf.\nDer galopper erhebt ein Startgeld in Höhe von 5\,-€. Bitte nur Kartenzahlung. \nReservierungen an: quiz@galopper-hamburg.de
URL:https://galopper-hamburg.de/event/jens-kneipenquiz-2/
LOCATION:Galopper\, Stellinger Weg 35\, Hamburg\, 20255\, Deutschland
ATTACH;FMTTYPE=image/jpeg:https://galopper-hamburg.de/wp-content/uploads/2025/07/Jens-Quiz.jpg
END:VEVENT
BEGIN:VEVENT
DTSTART;TZID=Europe/Paris:20250812T183000
DTEND;TZID=Europe/Paris:20250812T220000
DTSTAMP:20260424T174057
CREATED:20250527T092102Z
LAST-MODIFIED:20250527T092102Z
UID:3090-1755023400-1755036000@galopper-hamburg.de
SUMMARY:Kalles Kneipenquiz
DESCRIPTION:Kalles Kneipenquiz\n\nBeginn 19h; bis 18:30h da sein. \nVeranstaltung 19h – 22h \nquiz@galopper-hamburg.de \n\nDie Quizze an jedem Dienstag in der Woche erfreuen sich einer unglaublichen Beliebtheit.\n\nGenauso wie die Möglichkeit sich eine richtig leckere Pizza aus unserer Küche zu bestellen.\nBitte keine eigenen Snacks mitbringen.\nDer Verzehr von Speisen und Getränken ist sehr erwünscht.\nWir schenken täglich 8 verschiedene Biere vom Fass aus.\n\nKalle bleibt zum Glück Kalle! Der Klassiker!\nKalles Kneipenquiz findet an jedem 2. und 3. Dienstag im Monat statt!!!\nEs gibt 3\, manchmal sogar 4 Raterunden mit je 10 Fragen\, in denen euer Allgemeinwissen auf charmante Art geprüft wird.\nDie Teilnahme erfordert EUR 5\,00 Startgeld von jedem Gast\, die ihr nach Veranstaltungsende bargeldlos am Tresen oder am Tisch zahlen könnt.\nBargeld gibt es bei uns nicht mehr. Den Grund dafür erklären wir euch gerne vor Ort und persönlich.\nBitte reserviert rechtzeitig Tische für das Quiz per Mail an:\n\nquiz@galopper-hamburg.de. \n\nBitte seid so lieb und sagt rechtzeitig ab\, wenn abzusehen ist\, dass ihr absagen müsst\, oder mit weniger Personen als geplant erscheint. Die Plätze sind heiß begehrt und oft schon bis zu sechs Wochen im Vorweg ausgebucht.\n\nWir benötigen den Namen der Reservierenden\, die Anzahl der Teilnehmerinnen pro Tisch ( die Anzahl darf laut Kalles Regeln nicht mehr als 5 pro Rateteam betragen) und die Zeit\, wann ihr kommt.\nDer „galopper“ öffnet um 17h. Eine von uns bestätigte Reservierung verfällt\, wenn ihr bis um 18:30h noch nicht erschienen seid.\n\nWir sehen uns in Eimsbüttel! Stellinger Weg 35.
URL:https://galopper-hamburg.de/event/kalles-kneipenquiz-13-2/
LOCATION:Galopper\, Stellinger Weg 35\, Hamburg\, 20255\, Deutschland
ATTACH;FMTTYPE=image/jpeg:https://galopper-hamburg.de/wp-content/uploads/2024/03/kalle-e1712141723503.jpg
END:VEVENT
BEGIN:VEVENT
DTSTART;TZID=Europe/Paris:20250818T183000
DTEND;TZID=Europe/Paris:20250818T220000
DTSTAMP:20260424T174057
CREATED:20250603T094814Z
LAST-MODIFIED:20250603T094814Z
UID:3100-1755541800-1755554400@galopper-hamburg.de
SUMMARY:Quiz mit Moderator Andreas von Fünf Köpfe\, fünf Runden
DESCRIPTION:Im  galopper\, Stellinger Weg 35 \nBeginn 19h; bis 18:30h da sein. \nVeranstaltung 19h – 22h \nquiz@galopper-hamburg.de. \n  \nModerator Andreas von Fünf Köpfe\, fünf Runden. \n  \nEs besteht die Möglichkeit sich eine richtig leckere Pizza aus unserer Küche zu bestellen. \nDer Verzehr von Speisen und Getränken ist sehr erwünscht. \nBitte keine eigenen Snacks mitbringen. \nWir schenken täglich 8 verschiedene Biere vom Fass aus. \nEs gibt 4 Raterunden mit Fragen\, in denen euer Allgemeinwissen auf charmante Art geprüft wird. \nDie Teilnahme erfordert EUR 5\,00 Startgeld von jedem Gast\, die ihr nach Veranstaltungsende bargeldlos am Tresen oder am Tisch zahlen könnt. \nBargeld gibt es bei uns nicht. Den Grund dafür erklären wir euch gerne vor Ort und persönlich. \nBitte reserviert rechtzeitig Tische für den Innenbereich\, um sicher dabei zu sein per Mail an: \nquiz@galopper-hamburg.de. \nBitte seid so lieb und sagt rechtzeitig ab\, wenn abzusehen ist\, dass ihr absagen müsst\, oder mit weniger Personen als geplant erscheint. Die Plätze sind heiß begehrt und oft schon bis zu sechs Wochen vorher ausgebucht.\nWir benötigen den Namen der Reservierenden\, die Anzahl der Teilnehmerinnen pro Tisch ( die Anzahl darf nicht mehr als 5 pro Rateteam betragen) und die Zeit\, wann ihr kommt. \nDer „galopper“ öffnet um 17h. Eine von uns bestätigte Reservierung verfällt\, wenn ihr bis um 18:30h noch nicht erschienen seid. \nWir sehen uns im galopper in Eimsbüttel! Stellinger Weg 35.
URL:https://galopper-hamburg.de/event/andreas-fuenf-koepfe-fuenf-runden-2/
LOCATION:Galopper\, Stellinger Weg 35\, Hamburg\, 20255\, Deutschland
ATTACH;FMTTYPE=image/jpeg:https://galopper-hamburg.de/wp-content/uploads/2025/02/Andreas.jpg
END:VEVENT
BEGIN:VEVENT
DTSTART;TZID=Europe/Paris:20250819T183000
DTEND;TZID=Europe/Paris:20250819T220000
DTSTAMP:20260424T174057
CREATED:20250603T094927Z
LAST-MODIFIED:20250603T094927Z
UID:3102-1755628200-1755640800@galopper-hamburg.de
SUMMARY:Kalles Kneipenquiz
DESCRIPTION:Kalles Kneipenquiz\n\nBeginn 19h; bis 18:30h da sein. \nVeranstaltung 19h – 22h \nquiz@galopper-hamburg.de \n\nDie Quizze an jedem Dienstag in der Woche erfreuen sich einer unglaublichen Beliebtheit.\n\nGenauso wie die Möglichkeit sich eine richtig leckere Pizza aus unserer Küche zu bestellen.\nBitte keine eigenen Snacks mitbringen.\nDer Verzehr von Speisen und Getränken ist sehr erwünscht.\nWir schenken täglich 8 verschiedene Biere vom Fass aus.\n\nKalle bleibt zum Glück Kalle! Der Klassiker!\nKalles Kneipenquiz findet an jedem 2. und 3. Dienstag im Monat statt!!!\nEs gibt 3\, manchmal sogar 4 Raterunden mit je 10 Fragen\, in denen euer Allgemeinwissen auf charmante Art geprüft wird.\nDie Teilnahme erfordert EUR 5\,00 Startgeld von jedem Gast\, die ihr nach Veranstaltungsende bargeldlos am Tresen oder am Tisch zahlen könnt.\nBargeld gibt es bei uns nicht mehr. Den Grund dafür erklären wir euch gerne vor Ort und persönlich.\nBitte reserviert rechtzeitig Tische für das Quiz per Mail an:\n\nquiz@galopper-hamburg.de. \n\nBitte seid so lieb und sagt rechtzeitig ab\, wenn abzusehen ist\, dass ihr absagen müsst\, oder mit weniger Personen als geplant erscheint. Die Plätze sind heiß begehrt und oft schon bis zu sechs Wochen im Vorweg ausgebucht.\n\nWir benötigen den Namen der Reservierenden\, die Anzahl der Teilnehmerinnen pro Tisch ( die Anzahl darf laut Kalles Regeln nicht mehr als 5 pro Rateteam betragen) und die Zeit\, wann ihr kommt.\nDer „galopper“ öffnet um 17h. Eine von uns bestätigte Reservierung verfällt\, wenn ihr bis um 18:30h noch nicht erschienen seid.\n\nWir sehen uns in Eimsbüttel! Stellinger Weg 35.
URL:https://galopper-hamburg.de/event/kalles-kneipenquiz-14/
LOCATION:Galopper\, Stellinger Weg 35\, Hamburg\, 20255\, Deutschland
ATTACH;FMTTYPE=image/jpeg:https://galopper-hamburg.de/wp-content/uploads/2024/03/kalle-e1712141723503.jpg
END:VEVENT
BEGIN:VEVENT
DTSTART;TZID=Europe/Paris:20250825T183000
DTEND;TZID=Europe/Paris:20250825T220000
DTSTAMP:20260424T174057
CREATED:20250603T095033Z
LAST-MODIFIED:20250603T095033Z
UID:3104-1756146600-1756159200@galopper-hamburg.de
SUMMARY:Kalles Sport-Special Quiz
DESCRIPTION:Kalles Sport-Special Quiz\n\nBeginn 19h; bis 18:30h da sein. \nVeranstaltung 19h – 22h \nquiz@galopper-hamburg.de \n\n\nDenksport! \nWer z.B. weiß\, in welchem Ort im Staat New York schon zweimal Olympische Winterspiele stattfanden\, welche Vereine aus London aktuell in der Premier League spielen und wie viele Hürden in der Leichtathletik auf der 110 m-Sprintstrecke bei den Männern zu überwinden sind\, der ist genau richtig\, wenn Kalles Kneipenquiz by galopper zum ersten Mal mit einem Sport-Special ein neues Format an den Start bringt. \nEs treffen sich Jung und Alt\, Männer und Frauen in Teams mit bis zu fünf Personen\, um sich im sportlichen Wettstreit zu allgemeinen\, besonderen und unnützen Fragen aus der großen weiten Welt des Sports (und bei weitem nicht nur des Fußballs!) zu messen. \n\nDie Teilnahme erfordert EUR 5\,00 Startgeld von jedem Gast\, die ihr nach Veranstaltungsende bargeldlos am Tresen oder am Tisch zahlen könnt.\nBargeld gibt es bei uns nicht. Den Grund dafür erklären wir euch gerne vor Ort und persönlich.\nBitte reserviert rechtzeitig Tische für das Quiz per Mail an:\n\nquiz@galopper-hamburg.de. \n\nBitte seid so lieb und sagt rechtzeitig ab\, wenn abzusehen ist\, dass ihr absagen müsst\, oder mit weniger Personen als geplant erscheint. Die Plätze sind heiß begehrt und oft schon bis zu sechs Wochen im Vorweg ausgebucht.\n\nWir benötigen den Namen der Reservierenden\, die Anzahl der Teilnehmerinnen pro Tisch ( die Anzahl darf laut Kalles Regeln nicht mehr als fünf pro Rateteam betragen) und die Zeit\, wann ihr kommt.\nDer „galopper“ öffnet um 17h. Eine von uns bestätigte Reservierung verfällt\, wenn ihr bis um 18:30h noch nicht erschienen seid.\n\nWir sehen uns in Eimsbüttel! Stellinger Weg 35.
URL:https://galopper-hamburg.de/event/kalles-sportquiz-2/
LOCATION:Galopper\, Stellinger Weg 35\, Hamburg\, 20255\, Deutschland
ATTACH;FMTTYPE=image/jpeg:https://galopper-hamburg.de/wp-content/uploads/2024/12/Kallesport.jpg
END:VEVENT
BEGIN:VEVENT
DTSTART;TZID=Europe/Paris:20250826T183000
DTEND;TZID=Europe/Paris:20250826T220000
DTSTAMP:20260424T174057
CREATED:20250603T095143Z
LAST-MODIFIED:20250603T095143Z
UID:3106-1756233000-1756245600@galopper-hamburg.de
SUMMARY:Fünf Köpfe\, fünf Runden Quiz
DESCRIPTION:Im  galopper\, Stellinger Weg 35 \nBeginn 19h; bis 18:30h da sein. \nVeranstaltung 19h – 22h \nquiz@galopper-hamburg.de. \nFünf Köpfe\, fünf Runden. \nDie Seriensieger und Veteranen unserer Quizveranstaltungen haben beschlossen\, ein eigenes Format zu erfinden und sind jetzt schon quiz-Moderatoren Profis! \nDie Hamburger Quizgemeinde darf sich freuen! \n  \nEs besteht die Möglichkeit sich eine richtig leckere Pizza aus unserer Küche zu bestellen. \nDer Verzehr von Speisen und Getränken ist sehr erwünscht. \nBitte keine eigenen Snacks mitbringen. \nWir schenken täglich 8 verschiedene Biere vom Fass aus. \n  \nEs gibt 5 Raterunden ( eine davon mit Ton…) mit Fragen\, in denen euer Allgemeinwissen auf charmante Art geprüft wird. \nDie Teilnahme erfordert EUR 5\,00 Startgeld von jedem Gast\, die ihr nach Veranstaltungsende bargeldlos am Tresen oder am Tisch zahlen könnt. \nBargeld gibt es bei uns nicht. Den Grund dafür erklären wir euch gerne vor Ort und persönlich. \nBitte reserviert rechtzeitig Tische für den Innenbereich\, um sicher dabei zu sein per Mail an: \nquiz@galopper-hamburg.de. \nBitte seid so lieb und sagt rechtzeitig ab\, wenn abzusehen ist\, dass ihr absagen müsst\, oder mit weniger Personen als geplant erscheint. Die Plätze sind heiß begehrt und oft schon bis zu sechs Wochen vorher ausgebucht.\nWir benötigen den Namen der Reservierenden\, die Anzahl der Teilnehmerinnen pro Tisch (die Anzahl darf nicht mehr als 5 Personen pro Rateteam betragen) und die Zeit\, wann ihr kommt. \nDer „galopper“ öffnet um 17h. Eine von uns bestätigte Reservierung verfällt\, wenn ihr bis um 18:30h noch nicht erschienen seid. \nWir sehen uns im galopper in Eimsbüttel! Stellinger Weg 35.
URL:https://galopper-hamburg.de/event/fuenf-koepfe-fuenf-runden-6-2/
LOCATION:Galopper\, Stellinger Weg 35\, Hamburg\, 20255\, Deutschland
ATTACH;FMTTYPE=image/jpeg:https://galopper-hamburg.de/wp-content/uploads/2024/11/5Koepfe.jpg
END:VEVENT
END:VCALENDAR