BEGIN:VCALENDAR
VERSION:2.0
PRODID:-//Galopper Hamburg - ECPv6.15.20//NONSGML v1.0//EN
CALSCALE:GREGORIAN
METHOD:PUBLISH
X-WR-CALNAME:Galopper Hamburg
X-ORIGINAL-URL:https://galopper-hamburg.de
X-WR-CALDESC:Veranstaltungen für Galopper Hamburg
REFRESH-INTERVAL;VALUE=DURATION:PT1H
X-Robots-Tag:noindex
X-PUBLISHED-TTL:PT1H
BEGIN:VTIMEZONE
TZID:Europe/Paris
BEGIN:DAYLIGHT
TZOFFSETFROM:+0100
TZOFFSETTO:+0200
TZNAME:CEST
DTSTART:20240331T010000
END:DAYLIGHT
BEGIN:STANDARD
TZOFFSETFROM:+0200
TZOFFSETTO:+0100
TZNAME:CET
DTSTART:20241027T010000
END:STANDARD
BEGIN:DAYLIGHT
TZOFFSETFROM:+0100
TZOFFSETTO:+0200
TZNAME:CEST
DTSTART:20250330T010000
END:DAYLIGHT
BEGIN:STANDARD
TZOFFSETFROM:+0200
TZOFFSETTO:+0100
TZNAME:CET
DTSTART:20251026T010000
END:STANDARD
BEGIN:DAYLIGHT
TZOFFSETFROM:+0100
TZOFFSETTO:+0200
TZNAME:CEST
DTSTART:20260329T010000
END:DAYLIGHT
BEGIN:STANDARD
TZOFFSETFROM:+0200
TZOFFSETTO:+0100
TZNAME:CET
DTSTART:20261025T010000
END:STANDARD
END:VTIMEZONE
BEGIN:VEVENT
DTSTART;TZID=Europe/Paris:20250701T183000
DTEND;TZID=Europe/Paris:20250701T220000
DTSTAMP:20260424T190514
CREATED:20250527T085754Z
LAST-MODIFIED:20250527T085831Z
UID:3063-1751394600-1751407200@galopper-hamburg.de
SUMMARY:Quizhunger
DESCRIPTION:Im  galopper\, Stellinger Weg 35 \nBeginn 19h; bis 18:30h da sein. \nVeranstaltung 19h – 22h \nquiz@galopper-hamburg.de. \nWie üblich gibt es 3 Raterunden mit je 10 Fragen\, in denen die entertainenden Damen Eure Allgemeinbildung prüfen und sich oftmals einem Schwerpunktthema widmen. \nEs besteht die Möglichkeit sich eine richtig leckere Pizza aus unserer Küche zu bestellen. \nDer Verzehr von Speisen und Getränken ist sehr erwünscht. \nBitte keine eigenen Snacks mitbringen. \nWir schenken täglich 8 verschiedene Biere vom Fass aus. \nDie Teilnahme erfordert EUR 5\,00 Startgeld von jedem Gast\, die ihr nach Veranstaltungsende bargeldlos am Tresen oder am Tisch zahlen könnt. \nBargeld gibt es bei uns nicht. Den Grund dafür erklären wir euch gerne vor Ort und persönlich. \nBitte reserviert rechtzeitig Tische für den Innenbereich\, um sicher dabei zu sein per Mail an: \nquiz@galopper-hamburg.de. \nBitte seid so lieb und sagt rechtzeitig ab\, wenn abzusehen ist\, dass ihr absagen müsst\, oder mit weniger Personen als geplant erscheint. Die Plätze sind heiß begehrt und oft schon bis zu sechs Wochen vorher ausgebucht.\nWir benötigen den Namen der Reservierenden\, die Anzahl der Teilnehmerinnen pro Tisch (die Anzahl darf nicht mehr als 5 Personen pro Rateteam betragen) und die Zeit\, wann ihr kommt. \nDer „galopper“ öffnet um 17h. Eine von uns bestätigte Reservierung verfällt\, wenn ihr bis um 18:30h noch nicht erschienen seid. \nWir sehen uns im galopper in Eimsbüttel! Stellinger Weg 35.
URL:https://galopper-hamburg.de/event/quizhunger/
LOCATION:Galopper\, Stellinger Weg 35\, Hamburg\, 20255\, Deutschland
ATTACH;FMTTYPE=image/jpeg:https://galopper-hamburg.de/wp-content/uploads/2024/08/quizhunger.jpg
END:VEVENT
BEGIN:VEVENT
DTSTART;TZID=Europe/Paris:20250707T190000
DTEND;TZID=Europe/Paris:20250707T220000
DTSTAMP:20260424T190514
CREATED:20250527T085958Z
LAST-MODIFIED:20250527T090042Z
UID:3065-1751914800-1751925600@galopper-hamburg.de
SUMMARY:Quiz: Tom's Tricky Trivia Time - 18 Themengebiete im bunten Mix. Immer dabei: "Regionales & Aktuelles"
DESCRIPTION:Im  galopper\, Stellinger Weg 35 \nBeginn 19:30h; bis 19:00h da sein. \nVeranstaltung 19:30h – 22h \nquiz@galopper-hamburg.de. \nTom’s Tricky Trivia Time \nJeden 1.Montag im Monat: \n3 Runden à 10 Fragen \n18 Themengebiete im bunten Mix. Immer dabei: „Regionales & Aktuelles“ \nQuizgruppen wie immer bis 5 Personen \n\n\nEs besteht die Möglichkeit sich eine richtig leckere Pizza aus unserer Küche zu bestellen. \nDer Verzehr von Speisen und Getränken ist sehr erwünscht. \nBitte keine eigenen Snacks mitbringen. \nWir schenken täglich 8 verschiedene Biere vom Fass aus. \nBitte reserviert rechtzeitig Tische \, um sicher dabei zu sein per Mail an: \nquiz@galopper-hamburg.de. \nBitte seid so lieb und sagt rechtzeitig ab\, wenn abzusehen ist\, dass ihr absagen müsst\, oder mit weniger Personen als geplant erscheint. Die Plätze sind heiß begehrt und oft schon bis zu sechs Wochen vorher ausgebucht.\nWir benötigen den Namen der Reservierenden\, die Anzahl der Teilnehmerinnen pro Tisch ( die Anzahl darf nicht mehr als 5 pro Rateteam betragen) und die Zeit\, wann ihr kommt. \nDer „galopper“ öffnet um 17h. Eine von uns bestätigte Reservierung verfällt\, wenn ihr bis um 18:30h noch nicht erschienen seid. \nWir sehen uns im galopper in Eimsbüttel! Stellinger Weg 35.
URL:https://galopper-hamburg.de/event/toms-tricky-trivia-time-3/
LOCATION:Galopper\, Stellinger Weg 35\, Hamburg\, 20255\, Deutschland
ATTACH;FMTTYPE=image/jpeg:https://galopper-hamburg.de/wp-content/uploads/2024/11/toms-1.jpg
END:VEVENT
BEGIN:VEVENT
DTSTART;TZID=Europe/Paris:20250708T183000
DTEND;TZID=Europe/Paris:20250708T220000
DTSTAMP:20260424T190514
CREATED:20250527T090208Z
LAST-MODIFIED:20250527T090247Z
UID:3069-1751999400-1752012000@galopper-hamburg.de
SUMMARY:Kalles Kneipenquiz
DESCRIPTION:Kalles Kneipenquiz\n\nBeginn 19h; bis 18:30h da sein. \nVeranstaltung 19h – 22h \nquiz@galopper-hamburg.de \n\nDie Quizze an jedem Dienstag in der Woche erfreuen sich einer unglaublichen Beliebtheit.\n\nGenauso wie die Möglichkeit sich eine richtig leckere Pizza aus unserer Küche zu bestellen.\nBitte keine eigenen Snacks mitbringen.\nDer Verzehr von Speisen und Getränken ist sehr erwünscht.\nWir schenken täglich 8 verschiedene Biere vom Fass aus.\n\nKalle bleibt zum Glück Kalle! Der Klassiker!\nKalles Kneipenquiz findet an jedem 2. und 3. Dienstag im Monat statt!!!\nEs gibt 3\, manchmal sogar 4 Raterunden mit je 10 Fragen\, in denen euer Allgemeinwissen auf charmante Art geprüft wird.\nDie Teilnahme erfordert EUR 5\,00 Startgeld von jedem Gast\, die ihr nach Veranstaltungsende bargeldlos am Tresen oder am Tisch zahlen könnt.\nBargeld gibt es bei uns nicht mehr. Den Grund dafür erklären wir euch gerne vor Ort und persönlich.\nBitte reserviert rechtzeitig Tische für das Quiz per Mail an:\n\nquiz@galopper-hamburg.de. \n\nBitte seid so lieb und sagt rechtzeitig ab\, wenn abzusehen ist\, dass ihr absagen müsst\, oder mit weniger Personen als geplant erscheint. Die Plätze sind heiß begehrt und oft schon bis zu sechs Wochen im Vorweg ausgebucht.\n\nWir benötigen den Namen der Reservierenden\, die Anzahl der Teilnehmerinnen pro Tisch ( die Anzahl darf laut Kalles Regeln nicht mehr als 5 pro Rateteam betragen) und die Zeit\, wann ihr kommt.\nDer „galopper“ öffnet um 17h. Eine von uns bestätigte Reservierung verfällt\, wenn ihr bis um 18:30h noch nicht erschienen seid.\n\nWir sehen uns in Eimsbüttel! Stellinger Weg 35.
URL:https://galopper-hamburg.de/event/kalles-kneipenquiz-12-2/
LOCATION:Galopper\, Stellinger Weg 35\, Hamburg\, 20255\, Deutschland
ATTACH;FMTTYPE=image/jpeg:https://galopper-hamburg.de/wp-content/uploads/2024/03/kalle-e1712141723503.jpg
END:VEVENT
BEGIN:VEVENT
DTSTART;TZID=Europe/Paris:20250714T183000
DTEND;TZID=Europe/Paris:20250714T220000
DTSTAMP:20260424T190514
CREATED:20250527T090501Z
LAST-MODIFIED:20250527T090501Z
UID:3072-1752517800-1752530400@galopper-hamburg.de
SUMMARY:Tommy's PubQuiz
DESCRIPTION:Im  galopper\, Stellinger Weg 35 \nBeginn 19h; bis 18:30h da sein. \nVeranstaltung 19h – 22h \nquiz@galopper-hamburg.de. \nTommy’s PubQuiz! Jetzt schon legendär! \n  \nMöge das Quizzen beginnen! \n10 Fragen pro Runde\, 3 Runden sind angepeilt\, mehr bei Zeit und Bedarf – \nEwiger Ruhm in den Galoppergeschichtsbüchern wartet auf diejenigen\, mit den richtigen Antworten. \nMacht Euch auf einen wilden ritt durch eure Allgemeinwissensgedächtnisse bereit! \n  \nEs besteht die Möglichkeit sich eine richtig leckere Pizza aus unserer Küche zu bestellen. \nDer Verzehr von Speisen und Getränken ist sehr erwünscht. \nBitte keine eigenen Snacks mitbringen. \nWir schenken täglich 8 verschiedene Biere vom Fass aus. \nBitte reserviert rechtzeitig Tische \, um sicher dabei zu sein per Mail an: \nquiz@galopper-hamburg.de. \nBitte seid so lieb und sagt rechtzeitig ab\, wenn abzusehen ist\, dass ihr absagen müsst\, oder mit weniger Personen als geplant erscheint. Die Plätze sind heiß begehrt und oft schon bis zu sechs Wochen vorher ausgebucht.\nWir benötigen den Namen der Reservierenden\, die Anzahl der Teilnehmerinnen pro Tisch (die Anzahl darf nicht mehr als 5 Personen pro Rateteam betragen) und die Zeit\, wann ihr kommt. \nDer „galopper“ öffnet um 17h. Eine von uns bestätigte Reservierung verfällt\, wenn ihr bis um 18:30h noch nicht erschienen seid. \nWir sehen uns im galopper in Eimsbüttel! Stellinger Weg 35.
URL:https://galopper-hamburg.de/event/tommys-pubquiz-5/
LOCATION:Galopper\, Stellinger Weg 35\, Hamburg\, 20255\, Deutschland
ATTACH;FMTTYPE=image/jpeg:https://galopper-hamburg.de/wp-content/uploads/2024/10/Tommy.jpg
END:VEVENT
BEGIN:VEVENT
DTSTART;TZID=Europe/Paris:20250715T183000
DTEND;TZID=Europe/Paris:20250715T220000
DTSTAMP:20260424T190514
CREATED:20250527T090621Z
LAST-MODIFIED:20250527T090621Z
UID:3074-1752604200-1752616800@galopper-hamburg.de
SUMMARY:Kalles Kneipenquiz
DESCRIPTION:Kalles Kneipenquiz\n\nBeginn 19h; bis 18:30h da sein. \nVeranstaltung 19h – 22h \nquiz@galopper-hamburg.de \n\nDie Quizze an jedem Dienstag in der Woche erfreuen sich einer unglaublichen Beliebtheit.\n\nGenauso wie die Möglichkeit sich eine richtig leckere Pizza aus unserer Küche zu bestellen.\nBitte keine eigenen Snacks mitbringen.\nDer Verzehr von Speisen und Getränken ist sehr erwünscht.\nWir schenken täglich 8 verschiedene Biere vom Fass aus.\n\nKalle bleibt zum Glück Kalle! Der Klassiker!\nKalles Kneipenquiz findet an jedem 2. und 3. Dienstag im Monat statt!!!\nEs gibt 3\, manchmal sogar 4 Raterunden mit je 10 Fragen\, in denen euer Allgemeinwissen auf charmante Art geprüft wird.\nDie Teilnahme erfordert EUR 5\,00 Startgeld von jedem Gast\, die ihr nach Veranstaltungsende bargeldlos am Tresen oder am Tisch zahlen könnt.\nBargeld gibt es bei uns nicht mehr. Den Grund dafür erklären wir euch gerne vor Ort und persönlich.\nBitte reserviert rechtzeitig Tische für das Quiz per Mail an:\n\nquiz@galopper-hamburg.de. \n\nBitte seid so lieb und sagt rechtzeitig ab\, wenn abzusehen ist\, dass ihr absagen müsst\, oder mit weniger Personen als geplant erscheint. Die Plätze sind heiß begehrt und oft schon bis zu sechs Wochen im Vorweg ausgebucht.\n\nWir benötigen den Namen der Reservierenden\, die Anzahl der Teilnehmerinnen pro Tisch ( die Anzahl darf laut Kalles Regeln nicht mehr als 5 pro Rateteam betragen) und die Zeit\, wann ihr kommt.\nDer „galopper“ öffnet um 17h. Eine von uns bestätigte Reservierung verfällt\, wenn ihr bis um 18:30h noch nicht erschienen seid.\n\nWir sehen uns in Eimsbüttel! Stellinger Weg 35.
URL:https://galopper-hamburg.de/event/kalles-kneipenquiz-13/
LOCATION:Galopper\, Stellinger Weg 35\, Hamburg\, 20255\, Deutschland
ATTACH;FMTTYPE=image/jpeg:https://galopper-hamburg.de/wp-content/uploads/2024/03/kalle-e1712141723503.jpg
END:VEVENT
BEGIN:VEVENT
DTSTART;TZID=Europe/Paris:20250721T183000
DTEND;TZID=Europe/Paris:20250721T220000
DTSTAMP:20260424T190514
CREATED:20250527T090825Z
LAST-MODIFIED:20250527T090825Z
UID:3076-1753122600-1753135200@galopper-hamburg.de
SUMMARY:Kalles Kneipenquiz Musik-Special
DESCRIPTION:Kalles Kneipenquiz Musik-Special!!\n\nBeginn 19h; bis 18:30h da sein. \nVeranstaltung 19h – 22h \nquiz@galopper-hamburg.de \n  \nDie neue Ausgabe eines Musik-Specials als Ableger von Kalles Kneipenquiz.  \nDas Spektrum an diesem Abend wird die Bereiche Klassik bis Punk und von Abba bis Zappa umfassen.  \nEs gibt auch was auf die Ohren!! \n  \n\nBitte keine eigenen Snacks mitbringen.\nDer Verzehr von Speisen und Getränken ist sehr erwünscht.\nWir schenken täglich 8 verschiedene Biere vom Fass aus.\n\nDie Teilnahme erfordert EUR 5\,00 Startgeld von jedem Gast\, die ihr nach Veranstaltungsende bargeldlos am Tresen oder am Tisch zahlen könnt.\nBargeld gibt es bei uns nicht. Den Grund dafür erklären wir euch gerne vor Ort und persönlich.\n\nBitte reserviert rechtzeitig Tische für das Quiz per Mail an:\n\nquiz@galopper-hamburg.de. \n\nBitte seid so lieb und sagt rechtzeitig ab\, wenn abzusehen ist\, dass ihr absagen müsst\, oder mit weniger Personen als geplant erscheint. Die Plätze sind heiß begehrt und oft schon bis zu sechs Wochen im Vorweg ausgebucht.\n\nWir benötigen den Namen der Reservierenden\, die Anzahl der Teilnehmerinnen pro Tisch ( die Anzahl darf laut Kalles Regeln nicht mehr als 5 pro Rateteam betragen) und die Zeit\, wann ihr kommt.\nDer „galopper“ öffnet um 17h. Eine von uns bestätigte Reservierung verfällt\, wenn ihr bis um 18:30h noch nicht erschienen seid.\n\nWir sehen uns in Eimsbüttel! Stellinger Weg 35.
URL:https://galopper-hamburg.de/event/kalles-kneipenquiz-musik-special-4-3/
LOCATION:Galopper\, Stellinger Weg 35\, Hamburg\, 20255\, Deutschland
ATTACH;FMTTYPE=image/jpeg:https://galopper-hamburg.de/wp-content/uploads/2024/08/Kalle-Musik-e1724332022678.jpg
END:VEVENT
BEGIN:VEVENT
DTSTART;TZID=Europe/Paris:20250722T183000
DTEND;TZID=Europe/Paris:20250722T220000
DTSTAMP:20260424T190514
CREATED:20250527T091107Z
LAST-MODIFIED:20250527T091107Z
UID:3078-1753209000-1753221600@galopper-hamburg.de
SUMMARY:Fünf Köpfe\, fünf Runden Quiz
DESCRIPTION:Im  galopper\, Stellinger Weg 35 \nBeginn 19h; bis 18:30h da sein. \nVeranstaltung 19h – 22h \nquiz@galopper-hamburg.de. \nFünf Köpfe\, fünf Runden. \nDie Seriensieger und Veteranen unserer Quizveranstaltungen haben beschlossen\, ein eigenes Format zu erfinden und sind jetzt schon quiz-Moderatoren Profis! \nDie Hamburger Quizgemeinde darf sich freuen! \n  \nEs besteht die Möglichkeit sich eine richtig leckere Pizza aus unserer Küche zu bestellen. \nDer Verzehr von Speisen und Getränken ist sehr erwünscht. \nBitte keine eigenen Snacks mitbringen. \nWir schenken täglich 8 verschiedene Biere vom Fass aus. \n  \nEs gibt 5 Raterunden ( eine davon mit Ton…) mit Fragen\, in denen euer Allgemeinwissen auf charmante Art geprüft wird. \nDie Teilnahme erfordert EUR 5\,00 Startgeld von jedem Gast\, die ihr nach Veranstaltungsende bargeldlos am Tresen oder am Tisch zahlen könnt. \nBargeld gibt es bei uns nicht. Den Grund dafür erklären wir euch gerne vor Ort und persönlich. \nBitte reserviert rechtzeitig Tische für den Innenbereich\, um sicher dabei zu sein per Mail an: \nquiz@galopper-hamburg.de. \nBitte seid so lieb und sagt rechtzeitig ab\, wenn abzusehen ist\, dass ihr absagen müsst\, oder mit weniger Personen als geplant erscheint. Die Plätze sind heiß begehrt und oft schon bis zu sechs Wochen vorher ausgebucht.\nWir benötigen den Namen der Reservierenden\, die Anzahl der Teilnehmerinnen pro Tisch (die Anzahl darf nicht mehr als 5 Personen pro Rateteam betragen) und die Zeit\, wann ihr kommt. \nDer „galopper“ öffnet um 17h. Eine von uns bestätigte Reservierung verfällt\, wenn ihr bis um 18:30h noch nicht erschienen seid. \nWir sehen uns im galopper in Eimsbüttel! Stellinger Weg 35.
URL:https://galopper-hamburg.de/event/fuenf-koepfe-fuenf-runden-6/
LOCATION:Galopper\, Stellinger Weg 35\, Hamburg\, 20255\, Deutschland
ATTACH;FMTTYPE=image/jpeg:https://galopper-hamburg.de/wp-content/uploads/2024/11/5Koepfe.jpg
END:VEVENT
BEGIN:VEVENT
DTSTART;TZID=Europe/Paris:20250728T183000
DTEND;TZID=Europe/Paris:20250728T220000
DTSTAMP:20260424T190514
CREATED:20250527T091243Z
LAST-MODIFIED:20250527T091243Z
UID:3080-1753727400-1753740000@galopper-hamburg.de
SUMMARY:Kalles Geo-Special Quiz
DESCRIPTION:Kalles Geo-Special Quiz\n\nBeginn 19h; bis 18:30h da sein. \nVeranstaltung 19h – 22h \nquiz@galopper-hamburg.de \n\n\nDenksport! \nBist du bereit\, dein geografisches wissen auf die Probe zu stellen? Tauche ein in Kalles Geo-Special\, und entdecke wie gut du dich auf der Weltkarte auskennst. \nEs treffen sich Jung und Alt\, Männer und Frauen in Teams mit bis zu fünf Personen\, um sich im geografischen Wettstreit zu allgemeinen\, besonderen und unnützen Fragen aus der großen weiten Welt zu messen. \n\nDie Teilnahme erfordert EUR 5\,00 Startgeld von jedem Gast\, die ihr nach Veranstaltungsende bargeldlos am Tresen oder am Tisch zahlen könnt.\nBargeld gibt es bei uns nicht. Den Grund dafür erklären wir euch gerne vor Ort und persönlich.\nBitte reserviert rechtzeitig Tische für das Quiz per Mail an:\n\nquiz@galopper-hamburg.de. \n\nBitte seid so lieb und sagt rechtzeitig ab\, wenn abzusehen ist\, dass ihr absagen müsst\, oder mit weniger Personen als geplant erscheint. Die Plätze sind heiß begehrt und oft schon bis zu sechs Wochen im Vorweg ausgebucht.\n\nWir benötigen den Namen der Reservierenden\, die Anzahl der Teilnehmerinnen pro Tisch ( die Anzahl darf laut Kalles Regeln nicht mehr als fünf pro Rateteam betragen) und die Zeit\, wann ihr kommt.\nDer „galopper“ öffnet um 17h. Eine von uns bestätigte Reservierung verfällt\, wenn ihr bis um 18:30h noch nicht erschienen seid.\n\nWir sehen uns in Eimsbüttel! Stellinger Weg 35.
URL:https://galopper-hamburg.de/event/kalles-geo-special-quiz-3/
LOCATION:Galopper\, Stellinger Weg 35\, Hamburg\, 20255\, Deutschland
ATTACH;FMTTYPE=image/jpeg:https://galopper-hamburg.de/wp-content/uploads/2025/01/Kalle-Geo.jpg
END:VEVENT
BEGIN:VEVENT
DTSTART;TZID=Europe/Paris:20250729T183000
DTEND;TZID=Europe/Paris:20250729T220000
DTSTAMP:20260424T190514
CREATED:20250527T091423Z
LAST-MODIFIED:20250724T112251Z
UID:3082-1753813800-1753826400@galopper-hamburg.de
SUMMARY:Fällt leider aus // Bierquiz „Bier & Brain“ von und mit Jens aka "spiegl-bier-edition" für Wissensdurstige
DESCRIPTION:FÄLLT LEIDER AUFGRUND EINES SPONTANEN KURZURLAUBES DES MODERATOR AUS \n  \nbis 18:30h da sein; \n19h Start ( 19 – ca. 22h ) \nBier und Brain – Ein Quiz für echte Bierdenker und allgemein Wissensdurstige. \nModeriert von Jens\, alias spiegl_bier_edition\, erwartet euch bei Bier & Brain ein spannendes und unterhaltsames Quiz\, das sich in 3 Runden ganz um die faszinierende Welt des Bieres dreht. Genau das Richtige für alle Bierliebhaber und die\, die es noch werden wollen! \nEin kleiner Vorgeschmack:\n1️⃣ Welches Bier wird traditionell in Düsseldorf ausgeschenkt?\n2️⃣ Die Stadt Goslar ist für welchen Bierstil bekannt?\n3️⃣ Aus welchem Land stammt das bekannte Bier „Guinness“? \nDie Fragen reichen von nerdig bis leicht\, und die Themengebiete sind so vielfältig wie die Bierwelt selbst: historische Fakten\, Bier und Musik\, Bier weltweit und vieles mehr. Zeigt\, wie viel Bierwissen in euch steckt\, und stellt euch Jens’ kniffligen\, aber unterhaltsamen Fragen. Ein Abend voller Spaß\, Lernen und – natürlich – Bier! 🍻\nDer galopper freut sich richtig doll auf Jens‘ Bierquiz und bietet neben seinem breitgefächertem Bierangebot auch tolle Pizzen und andere\, kleine Speisen an. Passt super zum Bier. \nIn einer Gruppe dürfen bis zu 5 Teilnehmer quizzen. Seid ihr mehr\, teilt Ihr Euch intern am selben Tisch in mehrere Gruppen auf.\nDer galopper erhebt ein Startgeld in Höhe von 5\,-€. Bitte nur Kartenzahlung. \nReservierungen an: quiz@galopper-hamburg.de
URL:https://galopper-hamburg.de/event/bierquiz-bier-and-brain-mit-jens-3/
LOCATION:Galopper\, Stellinger Weg 35\, Hamburg\, 20255\, Deutschland
ATTACH;FMTTYPE=image/jpeg:https://galopper-hamburg.de/wp-content/uploads/2025/02/L1110158.jpg
END:VEVENT
END:VCALENDAR