BEGIN:VCALENDAR
VERSION:2.0
PRODID:-//Galopper Hamburg - ECPv6.15.20//NONSGML v1.0//EN
CALSCALE:GREGORIAN
METHOD:PUBLISH
X-ORIGINAL-URL:https://galopper-hamburg.de
X-WR-CALDESC:Veranstaltungen für Galopper Hamburg
REFRESH-INTERVAL;VALUE=DURATION:PT1H
X-Robots-Tag:noindex
X-PUBLISHED-TTL:PT1H
BEGIN:VTIMEZONE
TZID:Europe/Paris
BEGIN:DAYLIGHT
TZOFFSETFROM:+0100
TZOFFSETTO:+0200
TZNAME:CEST
DTSTART:20240331T010000
END:DAYLIGHT
BEGIN:STANDARD
TZOFFSETFROM:+0200
TZOFFSETTO:+0100
TZNAME:CET
DTSTART:20241027T010000
END:STANDARD
BEGIN:DAYLIGHT
TZOFFSETFROM:+0100
TZOFFSETTO:+0200
TZNAME:CEST
DTSTART:20250330T010000
END:DAYLIGHT
BEGIN:STANDARD
TZOFFSETFROM:+0200
TZOFFSETTO:+0100
TZNAME:CET
DTSTART:20251026T010000
END:STANDARD
BEGIN:DAYLIGHT
TZOFFSETFROM:+0100
TZOFFSETTO:+0200
TZNAME:CEST
DTSTART:20260329T010000
END:DAYLIGHT
BEGIN:STANDARD
TZOFFSETFROM:+0200
TZOFFSETTO:+0100
TZNAME:CET
DTSTART:20261025T010000
END:STANDARD
END:VTIMEZONE
BEGIN:VEVENT
DTSTART;TZID=Europe/Paris:20250602T190000
DTEND;TZID=Europe/Paris:20250602T220000
DTSTAMP:20260424T203846
CREATED:20250415T172526Z
LAST-MODIFIED:20250415T172540Z
UID:2941-1748890800-1748901600@galopper-hamburg.de
SUMMARY:Quiz: Tom's Tricky Trivia Time - 18 Themengebiete im bunten Mix. Immer dabei: "Regionales & Aktuelles"
DESCRIPTION:Im  galopper\, Stellinger Weg 35 \nBeginn 19:30h; bis 19:00h da sein. \nVeranstaltung 19:30h – 22h \nquiz@galopper-hamburg.de. \nThomas ist nicht nur ein begabter Barkeeper sondern auch ein fantastischer Quizmoderator. \nSein eigenes Quizformat \nTom’s Tricky Trivia Time \nhat ab sofort einen festen Platz in unserem Programm! \nJeden 1.Montag im Monat: \n3 Runden à 10 Fragen \n18 Themengebiete im bunten Mix. Immer dabei: „Regionales & Aktuelles“ \nQuizgruppen wie immer bis 5 Personen \n\n\nEs besteht die Möglichkeit sich eine richtig leckere Pizza aus unserer Küche zu bestellen. \nDer Verzehr von Speisen und Getränken ist sehr erwünscht. \nBitte keine eigenen Snacks mitbringen. \nWir schenken täglich 8 verschiedene Biere vom Fass aus. \nBitte reserviert rechtzeitig Tische \, um sicher dabei zu sein per Mail an: \nquiz@galopper-hamburg.de. \nBitte seid so lieb und sagt rechtzeitig ab\, wenn abzusehen ist\, dass ihr absagen müsst\, oder mit weniger Personen als geplant erscheint. Die Plätze sind heiß begehrt und oft schon bis zu sechs Wochen vorher ausgebucht.\nWir benötigen den Namen der Reservierenden\, die Anzahl der Teilnehmerinnen pro Tisch ( die Anzahl darf nicht mehr als 5 pro Rateteam betragen) und die Zeit\, wann ihr kommt. \nDer „galopper“ öffnet um 17h. Eine von uns bestätigte Reservierung verfällt\, wenn ihr bis um 18:30h noch nicht erschienen seid. \nWir sehen uns im galopper in Eimsbüttel! Stellinger Weg 35.
URL:https://galopper-hamburg.de/event/toms-tricky-trivia-time/
LOCATION:Galopper\, Stellinger Weg 35\, Hamburg\, 20255\, Deutschland
ATTACH;FMTTYPE=image/jpeg:https://galopper-hamburg.de/wp-content/uploads/2024/11/toms-1.jpg
END:VEVENT
BEGIN:VEVENT
DTSTART;TZID=Europe/Paris:20250603T183000
DTEND;TZID=Europe/Paris:20250603T220000
DTSTAMP:20260424T203846
CREATED:20250415T172851Z
LAST-MODIFIED:20250415T172914Z
UID:2943-1748975400-1748988000@galopper-hamburg.de
SUMMARY:galopper-Quiz mit Kalle & Co.
DESCRIPTION:Beginn 19h; bis 18:30h da sein. \nVeranstaltung 19h – 22h \nquiz@galopper-hamburg.de \n  \nDas Konzept sieht vor\, dass ein zweiter Moderator ( Kalles „Sidekick“ ) eine Runde mit 10 Fragen moderiert. \nEs gibt 3\, manchmal sogar 4 Raterunden mit je 10 Fragen\, in denen euer Allgemeinwissen auf charmante Art geprüft wird. \nDie Teilnahme erfordert EUR 5\,00 Startgeld von jedem Gast\, die ihr nach Veranstaltungsende bargeldlos am Tresen oder am Tisch zahlen könnt. \nIhr habt die Möglichkeit\, euch eine richtig leckere Pizza aus unserer Küche zu bestellen. \nDer Verzehr von unseren Speisen und Getränken ist sehr erwünscht. \nBitte keine eigenen Snacks mitbringen. \nWir schenken täglich 8 verschiedene Biere vom Fass aus. \nBargeld gibt es im neuen Laden nicht mehr. Den Grund dafür erklären wir euch gerne vor Ort und persönlich. \nBitte reserviert rechtzeitig Tische für das Quiz per Mail an: \nquiz@galopper-hamburg.de. \nBitte seid so lieb und sagt rechtzeitig ab\, wenn abzusehen ist\, dass ihr absagen müsst\, oder mit weniger Personen als geplant erscheint. Die Plätze sind heiß begehrt und oft schon bis zu sechs Wochen im Vorweg ausgebucht.\nWir benötigen den Namen der Reservierenden\, die Anzahl der Teilnehmerinnen pro Tisch ( die Anzahl darf laut Kalles Regeln nicht mehr als 5 pro Rateteam betragen) und die Zeit\, wann ihr kommt. \nDer „galopper“ öffnet um 17h. Eine von uns bestätigte Reservierung verfällt\, wenn ihr bis um 18:30h noch nicht erschienen seid. \nWir sehen uns in Eimsbüttel! Stellinger Weg 35.
URL:https://galopper-hamburg.de/event/galopper-quiz-mit-kalle-co-4/
LOCATION:Galopper\, Stellinger Weg 35\, Hamburg\, 20255\, Deutschland
ATTACH;FMTTYPE=image/jpeg:https://galopper-hamburg.de/wp-content/uploads/2024/03/kalle-co.jpg
END:VEVENT
BEGIN:VEVENT
DTSTART;TZID=Europe/Paris:20250609T183000
DTEND;TZID=Europe/Paris:20250609T220000
DTSTAMP:20260424T203846
CREATED:20250415T173103Z
LAST-MODIFIED:20250415T173103Z
UID:2945-1749493800-1749506400@galopper-hamburg.de
SUMMARY:Tommy's PubQuiz
DESCRIPTION:Im  galopper\, Stellinger Weg 35 \nBeginn 19h; bis 18:30h da sein. \nVeranstaltung 19h – 22h \nquiz@galopper-hamburg.de. \nHier ist das neueste Quizformat bei uns: \nTommy’s PubQuiz! \n  \nMöge das Quizzen beginnen! \n10 Fragen pro Runde\, 3 Runden sind angepeilt\, mehr bei Zeit und Bedarf – \nEwiger Ruhm in den Galoppergeschichtsbüchern wartet auf diejenigen\, mit den richtigen Antworten. \nMacht Euch auf einen wilden ritt durch eure Allgemeinwissensgedächtnisse bereit! \n  \nEs besteht die Möglichkeit sich eine richtig leckere Pizza aus unserer Küche zu bestellen. \nDer Verzehr von Speisen und Getränken ist sehr erwünscht. \nBitte keine eigenen Snacks mitbringen. \nWir schenken täglich 8 verschiedene Biere vom Fass aus. \nBitte reserviert rechtzeitig Tische \, um sicher dabei zu sein per Mail an: \nquiz@galopper-hamburg.de. \nBitte seid so lieb und sagt rechtzeitig ab\, wenn abzusehen ist\, dass ihr absagen müsst\, oder mit weniger Personen als geplant erscheint. Die Plätze sind heiß begehrt und oft schon bis zu sechs Wochen vorher ausgebucht.\nWir benötigen den Namen der Reservierenden\, die Anzahl der Teilnehmerinnen pro Tisch (die Anzahl darf nicht mehr als 5 Personen pro Rateteam betragen) und die Zeit\, wann ihr kommt. \nDer „galopper“ öffnet um 17h. Eine von uns bestätigte Reservierung verfällt\, wenn ihr bis um 18:30h noch nicht erschienen seid. \nWir sehen uns im galopper in Eimsbüttel! Stellinger Weg 35.
URL:https://galopper-hamburg.de/event/tommys-pubquiz-4/
LOCATION:Galopper\, Stellinger Weg 35\, Hamburg\, 20255\, Deutschland
ATTACH;FMTTYPE=image/jpeg:https://galopper-hamburg.de/wp-content/uploads/2024/10/Tommy.jpg
END:VEVENT
BEGIN:VEVENT
DTSTART;TZID=Europe/Paris:20250610T183000
DTEND;TZID=Europe/Paris:20250610T220000
DTSTAMP:20260424T203846
CREATED:20250415T173237Z
LAST-MODIFIED:20250415T173237Z
UID:2947-1749580200-1749592800@galopper-hamburg.de
SUMMARY:Kalles Kneipenquiz
DESCRIPTION:Kalles Kneipenquiz\n\nBeginn 19h; bis 18:30h da sein. \nVeranstaltung 19h – 22h \nquiz@galopper-hamburg.de \n\nDie Quizze an jedem Dienstag in der Woche erfreuen sich einer unglaublichen Beliebtheit.\n\nGenauso wie die Möglichkeit sich eine richtig leckere Pizza aus unserer Küche zu bestellen.\nBitte keine eigenen Snacks mitbringen.\nDer Verzehr von Speisen und Getränken ist sehr erwünscht.\nWir schenken täglich 8 verschiedene Biere vom Fass aus.\n\nKalle bleibt zum Glück Kalle! Der Klassiker!\nKalles Kneipenquiz findet an jedem 2. und 3. Dienstag im Monat statt!!!\nEs gibt 3\, manchmal sogar 4 Raterunden mit je 10 Fragen\, in denen euer Allgemeinwissen auf charmante Art geprüft wird.\nDie Teilnahme erfordert EUR 5\,00 Startgeld von jedem Gast\, die ihr nach Veranstaltungsende bargeldlos am Tresen oder am Tisch zahlen könnt.\nBargeld gibt es im neuen Laden nicht mehr. Den Grund dafür erklären wir euch gerne vor Ort und persönlich.\nBitte reserviert rechtzeitig Tische für das Quiz per Mail an:\n\nquiz@galopper-hamburg.de. \n\nBitte seid so lieb und sagt rechtzeitig ab\, wenn abzusehen ist\, dass ihr absagen müsst\, oder mit weniger Personen als geplant erscheint. Die Plätze sind heiß begehrt und oft schon bis zu sechs Wochen im Vorweg ausgebucht.\n\nWir benötigen den Namen der Reservierenden\, die Anzahl der Teilnehmerinnen pro Tisch ( die Anzahl darf laut Kalles Regeln nicht mehr als 5 pro Rateteam betragen) und die Zeit\, wann ihr kommt.\nDer „galopper“ öffnet um 17h. Eine von uns bestätigte Reservierung verfällt\, wenn ihr bis um 18:30h noch nicht erschienen seid.\n\nWir sehen uns in Eimsbüttel! Stellinger Weg 35.
URL:https://galopper-hamburg.de/event/kalles-kneipenquiz-11/
LOCATION:Galopper\, Stellinger Weg 35\, Hamburg\, 20255\, Deutschland
ATTACH;FMTTYPE=image/jpeg:https://galopper-hamburg.de/wp-content/uploads/2024/03/kalle-e1712141723503.jpg
END:VEVENT
BEGIN:VEVENT
DTSTART;TZID=Europe/Paris:20250616T183000
DTEND;TZID=Europe/Paris:20250616T220000
DTSTAMP:20260424T203846
CREATED:20250415T173806Z
LAST-MODIFIED:20250415T173845Z
UID:2949-1750098600-1750111200@galopper-hamburg.de
SUMMARY:Quiz mit Moderator Andreas von Fünf Köpfe\, fünf Runden
DESCRIPTION:Im  galopper\, Stellinger Weg 35 \nBeginn 19h; bis 18:30h da sein. \nVeranstaltung 19h – 22h \nquiz@galopper-hamburg.de. \nHier ist das neueste Quizformat bei uns: \n  \nModerator Andreas von Fünf Köpfe\, fünf Runden. \n  \nEs besteht die Möglichkeit sich eine richtig leckere Pizza aus unserer Küche zu bestellen. \nDer Verzehr von Speisen und Getränken ist sehr erwünscht. \nBitte keine eigenen Snacks mitbringen. \nWir schenken täglich 8 verschiedene Biere vom Fass aus. \nEs gibt 4 Raterunden mit Fragen\, in denen euer Allgemeinwissen auf charmante Art geprüft wird. \nDie Teilnahme erfordert EUR 5\,00 Startgeld von jedem Gast\, die ihr nach Veranstaltungsende bargeldlos am Tresen oder am Tisch zahlen könnt. \nBargeld gibt es bei uns nicht. Den Grund dafür erklären wir euch gerne vor Ort und persönlich. \nBitte reserviert rechtzeitig Tische für den Innenbereich\, um sicher dabei zu sein per Mail an: \nquiz@galopper-hamburg.de. \nBitte seid so lieb und sagt rechtzeitig ab\, wenn abzusehen ist\, dass ihr absagen müsst\, oder mit weniger Personen als geplant erscheint. Die Plätze sind heiß begehrt und oft schon bis zu sechs Wochen vorher ausgebucht.\nWir benötigen den Namen der Reservierenden\, die Anzahl der Teilnehmerinnen pro Tisch ( die Anzahl darf nicht mehr als 5 pro Rateteam betragen) und die Zeit\, wann ihr kommt. \nDer „galopper“ öffnet um 17h. Eine von uns bestätigte Reservierung verfällt\, wenn ihr bis um 18:30h noch nicht erschienen seid. \nWir sehen uns im galopper in Eimsbüttel! Stellinger Weg 35.
URL:https://galopper-hamburg.de/event/andreas-fuenf-koepfe-fuenf-runden/
LOCATION:Galopper\, Stellinger Weg 35\, Hamburg\, 20255\, Deutschland
ATTACH;FMTTYPE=image/jpeg:https://galopper-hamburg.de/wp-content/uploads/2025/02/Andreas.jpg
END:VEVENT
BEGIN:VEVENT
DTSTART;TZID=Europe/Paris:20250617T183000
DTEND;TZID=Europe/Paris:20250617T220000
DTSTAMP:20260424T203846
CREATED:20250415T174300Z
LAST-MODIFIED:20250415T174300Z
UID:2951-1750185000-1750197600@galopper-hamburg.de
SUMMARY:Kalles Kneipenquiz
DESCRIPTION:Kalles Kneipenquiz\n\nBeginn 19h; bis 18:30h da sein. \nVeranstaltung 19h – 22h \nquiz@galopper-hamburg.de \n\nDie Quizze an jedem Dienstag in der Woche erfreuen sich einer unglaublichen Beliebtheit.\n\nGenauso wie die Möglichkeit sich eine richtig leckere Pizza aus unserer Küche zu bestellen.\nBitte keine eigenen Snacks mitbringen.\nDer Verzehr von Speisen und Getränken ist sehr erwünscht.\nWir schenken täglich 8 verschiedene Biere vom Fass aus.\n\nKalle bleibt zum Glück Kalle! Der Klassiker!\nKalles Kneipenquiz findet an jedem 2. und 3. Dienstag im Monat statt!!!\nEs gibt 3\, manchmal sogar 4 Raterunden mit je 10 Fragen\, in denen euer Allgemeinwissen auf charmante Art geprüft wird.\nDie Teilnahme erfordert EUR 5\,00 Startgeld von jedem Gast\, die ihr nach Veranstaltungsende bargeldlos am Tresen oder am Tisch zahlen könnt.\nBargeld gibt es im neuen Laden nicht mehr. Den Grund dafür erklären wir euch gerne vor Ort und persönlich.\nBitte reserviert rechtzeitig Tische für das Quiz per Mail an:\n\nquiz@galopper-hamburg.de. \n\nBitte seid so lieb und sagt rechtzeitig ab\, wenn abzusehen ist\, dass ihr absagen müsst\, oder mit weniger Personen als geplant erscheint. Die Plätze sind heiß begehrt und oft schon bis zu sechs Wochen im Vorweg ausgebucht.\n\nWir benötigen den Namen der Reservierenden\, die Anzahl der Teilnehmerinnen pro Tisch ( die Anzahl darf laut Kalles Regeln nicht mehr als 5 pro Rateteam betragen) und die Zeit\, wann ihr kommt.\nDer „galopper“ öffnet um 17h. Eine von uns bestätigte Reservierung verfällt\, wenn ihr bis um 18:30h noch nicht erschienen seid.\n\nWir sehen uns in Eimsbüttel! Stellinger Weg 35.
URL:https://galopper-hamburg.de/event/kalles-kneipenquiz-12/
LOCATION:Galopper\, Stellinger Weg 35\, Hamburg\, 20255\, Deutschland
ATTACH;FMTTYPE=image/jpeg:https://galopper-hamburg.de/wp-content/uploads/2024/03/kalle-e1712141723503.jpg
END:VEVENT
BEGIN:VEVENT
DTSTART;TZID=Europe/Paris:20250623T183000
DTEND;TZID=Europe/Paris:20250623T220000
DTSTAMP:20260424T203846
CREATED:20250415T174517Z
LAST-MODIFIED:20250415T174543Z
UID:2953-1750703400-1750716000@galopper-hamburg.de
SUMMARY:Kalles Sport-Special Quiz
DESCRIPTION:Kalles Sport-Special Quiz\n\nBeginn 19h; bis 18:30h da sein. \nVeranstaltung 19h – 22h \nquiz@galopper-hamburg.de \n\n\nDenksport! \nWer z.B. weiß\, in welchem Ort im Staat New York schon zweimal Olympische Winterspiele stattfanden\, welche Vereine aus London aktuell in der Premier League spielen und wie viele Hürden in der Leichtathletik auf der 110 m-Sprintstrecke bei den Männern zu überwinden sind\, der ist genau richtig\, wenn Kalles Kneipenquiz by galopper zum ersten Mal mit einem Sport-Special ein neues Format an den Start bringt. \nEs treffen sich Jung und Alt\, Männer und Frauen in Teams mit bis zu fünf Personen\, um sich im sportlichen Wettstreit zu allgemeinen\, besonderen und unnützen Fragen aus der großen weiten Welt des Sports (und bei weitem nicht nur des Fußballs!) zu messen. \n\nDie Teilnahme erfordert EUR 5\,00 Startgeld von jedem Gast\, die ihr nach Veranstaltungsende bargeldlos am Tresen oder am Tisch zahlen könnt.\nBargeld gibt es bei uns nicht. Den Grund dafür erklären wir euch gerne vor Ort und persönlich.\nBitte reserviert rechtzeitig Tische für das Quiz per Mail an:\n\nquiz@galopper-hamburg.de. \n\nBitte seid so lieb und sagt rechtzeitig ab\, wenn abzusehen ist\, dass ihr absagen müsst\, oder mit weniger Personen als geplant erscheint. Die Plätze sind heiß begehrt und oft schon bis zu sechs Wochen im Vorweg ausgebucht.\n\nWir benötigen den Namen der Reservierenden\, die Anzahl der Teilnehmerinnen pro Tisch ( die Anzahl darf laut Kalles Regeln nicht mehr als fünf pro Rateteam betragen) und die Zeit\, wann ihr kommt.\nDer „galopper“ öffnet um 17h. Eine von uns bestätigte Reservierung verfällt\, wenn ihr bis um 18:30h noch nicht erschienen seid.\n\nWir sehen uns in Eimsbüttel! Stellinger Weg 35.
URL:https://galopper-hamburg.de/event/kalles-sportquiz/
LOCATION:Galopper\, Stellinger Weg 35\, Hamburg\, 20255\, Deutschland
ATTACH;FMTTYPE=image/jpeg:https://galopper-hamburg.de/wp-content/uploads/2024/12/Kallesport.jpg
END:VEVENT
BEGIN:VEVENT
DTSTART;TZID=Europe/Paris:20250624T183000
DTEND;TZID=Europe/Paris:20250624T220000
DTSTAMP:20260424T203846
CREATED:20250415T174851Z
LAST-MODIFIED:20250415T174851Z
UID:2955-1750789800-1750802400@galopper-hamburg.de
SUMMARY:Fünf Köpfe\, fünf Runden Quiz
DESCRIPTION:Im  galopper\, Stellinger Weg 35 \nBeginn 19h; bis 18:30h da sein. \nVeranstaltung 19h – 22h \nquiz@galopper-hamburg.de. \nFünf Köpfe\, fünf Runden. \nDie Seriensieger und Veteranen unserer Quizveranstaltungen haben beschlossen\, ein eigenes Format zu erfinden und wagen den „Karrieresprung“ von Quizzern zu Moderatoren! \nDie Hamburger Quizgemeinde darf gespannt sein. \n  \nEs besteht die Möglichkeit sich eine richtig leckere Pizza aus unserer Küche zu bestellen. \nDer Verzehr von Speisen und Getränken ist sehr erwünscht. \nBitte keine eigenen Snacks mitbringen. \nWir schenken täglich 8 verschiedene Biere vom Fass aus. \n  \nFünf Köpfe\, fünf Runden hat bislang keinen festen\, monatlichen Termin; das Format findet noch unregelmäßig statt. \nEs gibt 5 Raterunden ( eine davon mit Ton…) mit Fragen\, in denen euer Allgemeinwissen auf charmante Art geprüft wird. \nDie Teilnahme erfordert EUR 5\,00 Startgeld von jedem Gast\, die ihr nach Veranstaltungsende bargeldlos am Tresen oder am Tisch zahlen könnt. \nBargeld gibt es bei uns nicht. Den Grund dafür erklären wir euch gerne vor Ort und persönlich. \nBitte reserviert rechtzeitig Tische für den Innenbereich\, um sicher dabei zu sein per Mail an: \nquiz@galopper-hamburg.de. \nBitte seid so lieb und sagt rechtzeitig ab\, wenn abzusehen ist\, dass ihr absagen müsst\, oder mit weniger Personen als geplant erscheint. Die Plätze sind heiß begehrt und oft schon bis zu sechs Wochen vorher ausgebucht.\nWir benötigen den Namen der Reservierenden\, die Anzahl der Teilnehmerinnen pro Tisch (die Anzahl darf nicht mehr als 5 Personen pro Rateteam betragen) und die Zeit\, wann ihr kommt. \nDer „galopper“ öffnet um 17h. Eine von uns bestätigte Reservierung verfällt\, wenn ihr bis um 18:30h noch nicht erschienen seid. \nWir sehen uns im galopper in Eimsbüttel! Stellinger Weg 35.
URL:https://galopper-hamburg.de/event/fuenf-koepfe-fuenf-runden-5-2-2/
LOCATION:Galopper\, Stellinger Weg 35\, Hamburg\, 20255\, Deutschland
ATTACH;FMTTYPE=image/jpeg:https://galopper-hamburg.de/wp-content/uploads/2024/11/5Koepfe.jpg
END:VEVENT
BEGIN:VEVENT
DTSTART;TZID=Europe/Paris:20250630T183000
DTEND;TZID=Europe/Paris:20250630T220000
DTSTAMP:20260424T203846
CREATED:20250527T085120Z
LAST-MODIFIED:20250527T085609Z
UID:3057-1751308200-1751320800@galopper-hamburg.de
SUMMARY:Bierquiz „Bier & Brain“ von und mit Jens aka "spiegl-bier-edition" für Wissensdurstige
DESCRIPTION:bis 18:30h da sein; \n19h Start ( 19 – ca. 22h ) \nBier und Brain – Ein Quiz für echte Bierdenker und allgemein Wissensdurstige. \nModeriert von Jens\, alias spiegl_bier_edition\, erwartet euch bei Bier & Brain ein spannendes und unterhaltsames Quiz\, das sich in 3 Runden ganz um die faszinierende Welt des Bieres dreht. Genau das Richtige für alle Bierliebhaber und die\, die es noch werden wollen! \nEin kleiner Vorgeschmack:\n1️⃣ Welches Bier wird traditionell in Düsseldorf ausgeschenkt?\n2️⃣ Die Stadt Goslar ist für welchen Bierstil bekannt?\n3️⃣ Aus welchem Land stammt das bekannte Bier „Guinness“? \nDie Fragen reichen von nerdig bis leicht\, und die Themengebiete sind so vielfältig wie die Bierwelt selbst: historische Fakten\, Bier und Musik\, Bier weltweit und vieles mehr. Zeigt\, wie viel Bierwissen in euch steckt\, und stellt euch Jens’ kniffligen\, aber unterhaltsamen Fragen. Ein Abend voller Spaß\, Lernen und – natürlich – Bier! 🍻\nDer galopper freut sich richtig doll auf Jens‘ Bierquiz und bietet neben seinem breitgefächertem Bierangebot auch tolle Pizzen und andere\, kleine Speisen an. Passt super zum Bier. \nIn einer Gruppe dürfen bis zu 5 Teilnehmer quizzen. Seid ihr mehr\, teilt Ihr Euch intern am selben Tisch in mehrere Gruppen auf.\nDer galopper erhebt ein Startgeld in Höhe von 5\,-€. Bitte nur Kartenzahlung. \nReservierungen an: quiz@galopper-hamburg.de
URL:https://galopper-hamburg.de/event/bierquiz-bier-and-brain-mit-jens-2/
LOCATION:Galopper\, Stellinger Weg 35\, Hamburg\, 20255\, Deutschland
ATTACH;FMTTYPE=image/jpeg:https://galopper-hamburg.de/wp-content/uploads/2025/02/L1110158.jpg
END:VEVENT
END:VCALENDAR