BEGIN:VCALENDAR
VERSION:2.0
PRODID:-//Galopper Hamburg - ECPv6.15.20//NONSGML v1.0//EN
CALSCALE:GREGORIAN
METHOD:PUBLISH
X-WR-CALNAME:Galopper Hamburg
X-ORIGINAL-URL:https://galopper-hamburg.de
X-WR-CALDESC:Veranstaltungen für Galopper Hamburg
REFRESH-INTERVAL;VALUE=DURATION:PT1H
X-Robots-Tag:noindex
X-PUBLISHED-TTL:PT1H
BEGIN:VTIMEZONE
TZID:Europe/Berlin
BEGIN:DAYLIGHT
TZOFFSETFROM:+0100
TZOFFSETTO:+0200
TZNAME:CEST
DTSTART:20240331T010000
END:DAYLIGHT
BEGIN:STANDARD
TZOFFSETFROM:+0200
TZOFFSETTO:+0100
TZNAME:CET
DTSTART:20241027T010000
END:STANDARD
BEGIN:DAYLIGHT
TZOFFSETFROM:+0100
TZOFFSETTO:+0200
TZNAME:CEST
DTSTART:20250330T010000
END:DAYLIGHT
BEGIN:STANDARD
TZOFFSETFROM:+0200
TZOFFSETTO:+0100
TZNAME:CET
DTSTART:20251026T010000
END:STANDARD
BEGIN:DAYLIGHT
TZOFFSETFROM:+0100
TZOFFSETTO:+0200
TZNAME:CEST
DTSTART:20260329T010000
END:DAYLIGHT
BEGIN:STANDARD
TZOFFSETFROM:+0200
TZOFFSETTO:+0100
TZNAME:CET
DTSTART:20261025T010000
END:STANDARD
END:VTIMEZONE
BEGIN:VEVENT
DTSTART;TZID=Europe/Berlin:20251230T183000
DTEND;TZID=Europe/Berlin:20251230T220000
DTSTAMP:20260420T131315
CREATED:20251107T083645Z
LAST-MODIFIED:20251107T083710Z
UID:3807-1767119400-1767132000@galopper-hamburg.de
SUMMARY:Kalles Kneipenquiz
DESCRIPTION:Kalles Kneipenquiz\n\nBeginn 19h; bis 18:30h da sein. \nVeranstaltung 19h – 22h \nquiz@galopper-hamburg.de \n\nDie Quizze an jedem Dienstag in der Woche erfreuen sich einer unglaublichen Beliebtheit.\n\nGenauso wie die Möglichkeit sich eine richtig leckere Pizza aus unserer Küche zu bestellen.\nBitte keine eigenen Snacks mitbringen.\nDer Verzehr von Speisen und Getränken ist sehr erwünscht.\nWir schenken täglich 8 verschiedene Biere vom Fass aus.\n\nKalle bleibt zum Glück Kalle! Der Klassiker!\nKalles Kneipenquiz findet an jedem 2. und 3. Dienstag im Monat statt!!!\nEs gibt 3\, manchmal sogar 4 Raterunden mit je 10 Fragen\, in denen euer Allgemeinwissen auf charmante Art geprüft wird.\nDie Teilnahme erfordert EUR 5\,00 Startgeld von jedem Gast\, die ihr nach Veranstaltungsende bargeldlos am Tresen oder am Tisch zahlen könnt.\nBargeld gibt es bei uns nicht mehr. Den Grund dafür erklären wir euch gerne vor Ort und persönlich.\nBitte reserviert rechtzeitig Tische für das Quiz per Mail an:\n\nquiz@galopper-hamburg.de. \n\nBitte seid so lieb und sagt rechtzeitig ab\, wenn abzusehen ist\, dass ihr absagen müsst\, oder mit weniger Personen als geplant erscheint. Die Plätze sind heiß begehrt und oft schon bis zu sechs Wochen im Vorweg ausgebucht.\n\nWir benötigen den Namen der Reservierenden\, die Anzahl der Teilnehmerinnen pro Tisch ( die Anzahl darf laut Kalles Regeln nicht mehr als 5 pro Rateteam betragen) und die Zeit\, wann ihr kommt.\nDer „galopper“ öffnet um 17h. Eine von uns bestätigte Reservierung verfällt\, wenn ihr bis um 18:30h noch nicht erschienen seid.\n\nWir sehen uns in Eimsbüttel! Stellinger Weg 35.
URL:https://galopper-hamburg.de/event/kalles-kneipenquiz-16/
LOCATION:Galopper\, Stellinger Weg 35\, Hamburg\, 20255\, Deutschland
ATTACH;FMTTYPE=image/jpeg:https://galopper-hamburg.de/wp-content/uploads/2024/03/kalle-e1712141723503.jpg
END:VEVENT
END:VCALENDAR