BEGIN:VCALENDAR
VERSION:2.0
PRODID:-//Galopper Hamburg - ECPv6.15.20//NONSGML v1.0//EN
CALSCALE:GREGORIAN
METHOD:PUBLISH
X-ORIGINAL-URL:https://galopper-hamburg.de
X-WR-CALDESC:Veranstaltungen für Galopper Hamburg
REFRESH-INTERVAL;VALUE=DURATION:PT1H
X-Robots-Tag:noindex
X-PUBLISHED-TTL:PT1H
BEGIN:VTIMEZONE
TZID:Europe/Berlin
BEGIN:DAYLIGHT
TZOFFSETFROM:+0100
TZOFFSETTO:+0200
TZNAME:CEST
DTSTART:20240331T010000
END:DAYLIGHT
BEGIN:STANDARD
TZOFFSETFROM:+0200
TZOFFSETTO:+0100
TZNAME:CET
DTSTART:20241027T010000
END:STANDARD
BEGIN:DAYLIGHT
TZOFFSETFROM:+0100
TZOFFSETTO:+0200
TZNAME:CEST
DTSTART:20250330T010000
END:DAYLIGHT
BEGIN:STANDARD
TZOFFSETFROM:+0200
TZOFFSETTO:+0100
TZNAME:CET
DTSTART:20251026T010000
END:STANDARD
BEGIN:DAYLIGHT
TZOFFSETFROM:+0100
TZOFFSETTO:+0200
TZNAME:CEST
DTSTART:20260329T010000
END:DAYLIGHT
BEGIN:STANDARD
TZOFFSETFROM:+0200
TZOFFSETTO:+0100
TZNAME:CET
DTSTART:20261025T010000
END:STANDARD
END:VTIMEZONE
BEGIN:VEVENT
DTSTART;TZID=Europe/Berlin:20251214T150000
DTEND;TZID=Europe/Berlin:20251214T210000
DTSTAMP:20260420T144058
CREATED:20251208T170947Z
LAST-MODIFIED:20251208T171107Z
UID:3915-1765724400-1765746000@galopper-hamburg.de
SUMMARY:Mysuru - Experience Karnataka on your plate
DESCRIPTION:Experience Karnataka on your plate! \nSavor the flavors of Mysuru’s iconic street food\, dive into the varieties of ghee roast\, and indulge in the legendary Mysuru Masala Dose and Ambur Biriyani combined with Iconic craft beers 🍺 \n  \nWhere every bite is a journey through tradition and taste ! 😍 \n  \nJoin us on 14.12.2025\, 3 Pm onwards! \n  \nReservation: Mail: mysurubites2024@gmail.com \n  \nErleben Sie Karnataka auf Ihrem Teller! \nGenießen Sie die Aromen von Mysurus legendärem Streetfood\, tauchen Sie ein in die verschiedenen Ghee-Braten und gönnen Sie sich die legendäre Mysuru Masala Dose und Ambur Biriyani in Kombination mit ikonischen Craft-Bieren 🍺 \n  \nWo jeder Bissen eine Reise durch Tradition und Geschmack ist! 😍 \n  \nSeien Sie am 14.12.2025 ab 15 Uhr dabei! \n  \nReservieren: Mail: mysurubites2024@gmail.com
URL:https://galopper-hamburg.de/event/mysuru-bites-pop-up-2-2-2-2/
LOCATION:Galopper\, Stellinger Weg 35\, Hamburg\, 20255\, Deutschland
ATTACH;FMTTYPE=image/jpeg:https://galopper-hamburg.de/wp-content/uploads/2025/12/mysuru-popup.jpg
ORGANIZER;CN="Mysuru Bites":MAILTO:mysurubites2024@gmail.com
END:VEVENT
END:VCALENDAR