BEGIN:VCALENDAR
VERSION:2.0
PRODID:-//Galopper Hamburg - ECPv6.15.20//NONSGML v1.0//EN
CALSCALE:GREGORIAN
METHOD:PUBLISH
X-ORIGINAL-URL:https://galopper-hamburg.de
X-WR-CALDESC:Veranstaltungen für Galopper Hamburg
REFRESH-INTERVAL;VALUE=DURATION:PT1H
X-Robots-Tag:noindex
X-PUBLISHED-TTL:PT1H
BEGIN:VTIMEZONE
TZID:Europe/Berlin
BEGIN:DAYLIGHT
TZOFFSETFROM:+0100
TZOFFSETTO:+0200
TZNAME:CEST
DTSTART:20240331T010000
END:DAYLIGHT
BEGIN:STANDARD
TZOFFSETFROM:+0200
TZOFFSETTO:+0100
TZNAME:CET
DTSTART:20241027T010000
END:STANDARD
BEGIN:DAYLIGHT
TZOFFSETFROM:+0100
TZOFFSETTO:+0200
TZNAME:CEST
DTSTART:20250330T010000
END:DAYLIGHT
BEGIN:STANDARD
TZOFFSETFROM:+0200
TZOFFSETTO:+0100
TZNAME:CET
DTSTART:20251026T010000
END:STANDARD
BEGIN:DAYLIGHT
TZOFFSETFROM:+0100
TZOFFSETTO:+0200
TZNAME:CEST
DTSTART:20260329T010000
END:DAYLIGHT
BEGIN:STANDARD
TZOFFSETFROM:+0200
TZOFFSETTO:+0100
TZNAME:CET
DTSTART:20261025T010000
END:STANDARD
END:VTIMEZONE
BEGIN:VEVENT
DTSTART;TZID=Europe/Berlin:20251208T183000
DTEND;TZID=Europe/Berlin:20251208T220000
DTSTAMP:20260420T144138
CREATED:20251122T183453Z
LAST-MODIFIED:20251122T183801Z
UID:3835-1765218600-1765231200@galopper-hamburg.de
SUMMARY:Jens Kneipenquiz
DESCRIPTION:Bis 18:30h da sein; \n19h Start ( 19 – ca. 22h ) \n  \nOb Hamburg-Kenner\, Musik-Freak oder heimlicher Bierprofi – beim Jens Kneipenquiz ist für alle etwas dabei! \nEuch erwarten 30 abwechslungsreiche Fragen aus aktuellen Themen\, Hamburg-Wissen\, Popkultur\, Historischem und natürlich der beliebten Kategorie „Wer bin ich?“. \n  \nModeriert wird der Abend von Jens alias @spiegl_bier_edition\, bekannt durch Bier & Brain – also: Ja\, Bier spielt mit\, aber längst nicht die Hauptrolle. \n  \n👥 Teams mit bis zu 5 Personen\n🍕 Leckere Pizza & viele Biere vom Fass \n  \n„Im Galopper gewinnt nicht der Schnellste – sondern der Klügste!“ \n  \nReservierung dringend empfohlen:\n📩 quiz@galopper-hamburg.de \n  \nIn einer Gruppe dürfen bis zu 5 Teilnehmer quizzen. Seid ihr mehr\, teilt Ihr Euch intern am selben Tisch in mehrere Gruppen auf. \n  \nDer galopper erhebt ein Startgeld in Höhe von 5\,-€. \nBitte nur Kartenzahlung.
URL:https://galopper-hamburg.de/event/jens-kneipenquiz-3-2-2/
LOCATION:Galopper\, Stellinger Weg 35\, Hamburg\, 20255\, Deutschland
ATTACH;FMTTYPE=image/jpeg:https://galopper-hamburg.de/wp-content/uploads/2025/07/Jens-Quiz.jpg
END:VEVENT
END:VCALENDAR