BEGIN:VCALENDAR
VERSION:2.0
PRODID:-//Galopper Hamburg - ECPv6.15.20//NONSGML v1.0//EN
CALSCALE:GREGORIAN
METHOD:PUBLISH
X-WR-CALNAME:Galopper Hamburg
X-ORIGINAL-URL:https://galopper-hamburg.de
X-WR-CALDESC:Veranstaltungen für Galopper Hamburg
REFRESH-INTERVAL;VALUE=DURATION:PT1H
X-Robots-Tag:noindex
X-PUBLISHED-TTL:PT1H
BEGIN:VTIMEZONE
TZID:Europe/Berlin
BEGIN:DAYLIGHT
TZOFFSETFROM:+0100
TZOFFSETTO:+0200
TZNAME:CEST
DTSTART:20240331T010000
END:DAYLIGHT
BEGIN:STANDARD
TZOFFSETFROM:+0200
TZOFFSETTO:+0100
TZNAME:CET
DTSTART:20241027T010000
END:STANDARD
BEGIN:DAYLIGHT
TZOFFSETFROM:+0100
TZOFFSETTO:+0200
TZNAME:CEST
DTSTART:20250330T010000
END:DAYLIGHT
BEGIN:STANDARD
TZOFFSETFROM:+0200
TZOFFSETTO:+0100
TZNAME:CET
DTSTART:20251026T010000
END:STANDARD
BEGIN:DAYLIGHT
TZOFFSETFROM:+0100
TZOFFSETTO:+0200
TZNAME:CEST
DTSTART:20260329T010000
END:DAYLIGHT
BEGIN:STANDARD
TZOFFSETFROM:+0200
TZOFFSETTO:+0100
TZNAME:CET
DTSTART:20261025T010000
END:STANDARD
END:VTIMEZONE
BEGIN:VEVENT
DTSTART;TZID=Europe/Berlin:20251202T183000
DTEND;TZID=Europe/Berlin:20251202T220000
DTSTAMP:20260420T143727
CREATED:20250922T105754Z
LAST-MODIFIED:20250922T105754Z
UID:3640-1764700200-1764712800@galopper-hamburg.de
SUMMARY:galopper-Quiz mit Kalle & Co.
DESCRIPTION:Beginn 19h; bis 18:30h da sein. \nVeranstaltung 19h – 22h \nquiz@galopper-hamburg.de \n  \nDas Konzept sieht vor\, dass ein zweiter Moderator ( Kalles „Sidekick“ ) eine Runde mit 10 Fragen moderiert. \nEs gibt 3\, manchmal sogar 4 Raterunden mit je 10 Fragen\, in denen euer Allgemeinwissen auf charmante Art geprüft wird. \nDie Teilnahme erfordert EUR 5\,00 Startgeld von jedem Gast\, die ihr nach Veranstaltungsende bargeldlos am Tresen oder am Tisch zahlen könnt. \nIhr habt die Möglichkeit\, euch eine richtig leckere Pizza aus unserer Küche zu bestellen. \nDer Verzehr von unseren Speisen und Getränken ist sehr erwünscht. \nBitte keine eigenen Snacks mitbringen. \nWir schenken täglich 8 verschiedene Biere vom Fass aus. \nBargeld gibt es im neuen Laden nicht mehr. Den Grund dafür erklären wir euch gerne vor Ort und persönlich. \nBitte reserviert rechtzeitig Tische für das Quiz per Mail an: \nquiz@galopper-hamburg.de. \nBitte seid so lieb und sagt rechtzeitig ab\, wenn abzusehen ist\, dass ihr absagen müsst\, oder mit weniger Personen als geplant erscheint. Die Plätze sind heiß begehrt und oft schon bis zu sechs Wochen im Vorweg ausgebucht.\nWir benötigen den Namen der Reservierenden\, die Anzahl der Teilnehmerinnen pro Tisch ( die Anzahl darf laut Kalles Regeln nicht mehr als 5 pro Rateteam betragen) und die Zeit\, wann ihr kommt. \nDer „galopper“ öffnet um 17h. Eine von uns bestätigte Reservierung verfällt\, wenn ihr bis um 18:30h noch nicht erschienen seid. \nWir sehen uns in Eimsbüttel! Stellinger Weg 35.
URL:https://galopper-hamburg.de/event/galopper-quiz-mit-kalle-co-5-2-2/
LOCATION:Galopper\, Stellinger Weg 35\, Hamburg\, 20255\, Deutschland
ATTACH;FMTTYPE=image/jpeg:https://galopper-hamburg.de/wp-content/uploads/2024/03/kalle-co.jpg
END:VEVENT
END:VCALENDAR