BEGIN:VCALENDAR
VERSION:2.0
PRODID:-//Galopper Hamburg - ECPv6.15.20//NONSGML v1.0//EN
CALSCALE:GREGORIAN
METHOD:PUBLISH
X-ORIGINAL-URL:https://galopper-hamburg.de
X-WR-CALDESC:Veranstaltungen für Galopper Hamburg
REFRESH-INTERVAL;VALUE=DURATION:PT1H
X-Robots-Tag:noindex
X-PUBLISHED-TTL:PT1H
BEGIN:VTIMEZONE
TZID:Europe/Berlin
BEGIN:DAYLIGHT
TZOFFSETFROM:+0100
TZOFFSETTO:+0200
TZNAME:CEST
DTSTART:20240331T010000
END:DAYLIGHT
BEGIN:STANDARD
TZOFFSETFROM:+0200
TZOFFSETTO:+0100
TZNAME:CET
DTSTART:20241027T010000
END:STANDARD
BEGIN:DAYLIGHT
TZOFFSETFROM:+0100
TZOFFSETTO:+0200
TZNAME:CEST
DTSTART:20250330T010000
END:DAYLIGHT
BEGIN:STANDARD
TZOFFSETFROM:+0200
TZOFFSETTO:+0100
TZNAME:CET
DTSTART:20251026T010000
END:STANDARD
BEGIN:DAYLIGHT
TZOFFSETFROM:+0100
TZOFFSETTO:+0200
TZNAME:CEST
DTSTART:20260329T010000
END:DAYLIGHT
BEGIN:STANDARD
TZOFFSETFROM:+0200
TZOFFSETTO:+0100
TZNAME:CET
DTSTART:20261025T010000
END:STANDARD
END:VTIMEZONE
BEGIN:VEVENT
DTSTART;TZID=Europe/Berlin:20251201T183000
DTEND;TZID=Europe/Berlin:20251201T220000
DTSTAMP:20260420T144138
CREATED:20250922T105425Z
LAST-MODIFIED:20251028T143809Z
UID:3637-1764613800-1764626400@galopper-hamburg.de
SUMMARY:Quiz: Tom's Tricky Trivia Time - 18 Themengebiete im bunten Mix. Immer dabei: "Regionales & Aktuelles"
DESCRIPTION:Im  galopper\, Stellinger Weg 35 \nBeginn 19:00h; bis 18:30h da sein. \nVeranstaltung 19:00h – 22h \nquiz@galopper-hamburg.de. \nThomas ist nicht nur ein begabter Barkeeper sondern auch ein fantastischer Quizmoderator. \nSein eigenes Quizformat \nTom’s Tricky Trivia Time \nhat ab sofort einen festen Platz in unserem Programm! \nJeden 1.Montag im Monat: \n3 Runden à 10 Fragen \n18 Themengebiete im bunten Mix. Immer dabei: „Regionales & Aktuelles“ \nQuizgruppen wie immer bis 5 Personen \n\n\nEs besteht die Möglichkeit sich eine richtig leckere Pizza aus unserer Küche zu bestellen. \nDer Verzehr von Speisen und Getränken ist sehr erwünscht. \nBitte keine eigenen Snacks mitbringen. \nWir schenken täglich 8 verschiedene Biere vom Fass aus. \nBitte reserviert rechtzeitig Tische \, um sicher dabei zu sein per Mail an: \nquiz@galopper-hamburg.de. \nBitte seid so lieb und sagt rechtzeitig ab\, wenn abzusehen ist\, dass ihr absagen müsst\, oder mit weniger Personen als geplant erscheint. Die Plätze sind heiß begehrt und oft schon bis zu sechs Wochen vorher ausgebucht.\nWir benötigen den Namen der Reservierenden\, die Anzahl der Teilnehmerinnen pro Tisch ( die Anzahl darf nicht mehr als 5 pro Rateteam betragen) und die Zeit\, wann ihr kommt. \nDer „galopper“ öffnet um 17h. Eine von uns bestätigte Reservierung verfällt\, wenn ihr bis um 18:30h noch nicht erschienen seid. \nWir sehen uns im galopper in Eimsbüttel! Stellinger Weg 35.
URL:https://galopper-hamburg.de/event/toms-tricky-trivia-time-5-2-2/
LOCATION:Galopper\, Stellinger Weg 35\, Hamburg\, 20255\, Deutschland
ATTACH;FMTTYPE=image/jpeg:https://galopper-hamburg.de/wp-content/uploads/2024/11/toms-1.jpg
END:VEVENT
END:VCALENDAR