BEGIN:VCALENDAR
VERSION:2.0
PRODID:-//Galopper Hamburg - ECPv6.15.20//NONSGML v1.0//EN
CALSCALE:GREGORIAN
METHOD:PUBLISH
X-ORIGINAL-URL:https://galopper-hamburg.de
X-WR-CALDESC:Veranstaltungen für Galopper Hamburg
REFRESH-INTERVAL;VALUE=DURATION:PT1H
X-Robots-Tag:noindex
X-PUBLISHED-TTL:PT1H
BEGIN:VTIMEZONE
TZID:Europe/Paris
BEGIN:DAYLIGHT
TZOFFSETFROM:+0100
TZOFFSETTO:+0200
TZNAME:CEST
DTSTART:20240331T010000
END:DAYLIGHT
BEGIN:STANDARD
TZOFFSETFROM:+0200
TZOFFSETTO:+0100
TZNAME:CET
DTSTART:20241027T010000
END:STANDARD
BEGIN:DAYLIGHT
TZOFFSETFROM:+0100
TZOFFSETTO:+0200
TZNAME:CEST
DTSTART:20250330T010000
END:DAYLIGHT
BEGIN:STANDARD
TZOFFSETFROM:+0200
TZOFFSETTO:+0100
TZNAME:CET
DTSTART:20251026T010000
END:STANDARD
BEGIN:DAYLIGHT
TZOFFSETFROM:+0100
TZOFFSETTO:+0200
TZNAME:CEST
DTSTART:20260329T010000
END:DAYLIGHT
BEGIN:STANDARD
TZOFFSETFROM:+0200
TZOFFSETTO:+0100
TZNAME:CET
DTSTART:20261025T010000
END:STANDARD
END:VTIMEZONE
BEGIN:VEVENT
DTSTART;TZID=Europe/Paris:20250427T170000
DTEND;TZID=Europe/Paris:20250427T210000
DTSTAMP:20260425T003548
CREATED:20250415T104937Z
LAST-MODIFIED:20250415T104937Z
UID:2935-1745773200-1745787600@galopper-hamburg.de
SUMMARY:Mysuru Bites pop-up
DESCRIPTION:Mysuru bites is back with an interesting pop-up! 😍 \nWhether you’re a seasoned fan of Indian cuisine or just starting your journey\, this pop-up invites you to discover the flavors beyond the usual\, tantalizing your taste buds in the most unexpected ways. \nCome hungry for this adventure—because with Mysuru Bites\, every bite is a new discovery! \nSend us your reservation details at:\nmysurubites2024@gmail.com \nDate: 27 April 2025\nTime: 17:00 to 21:00
URL:https://galopper-hamburg.de/event/mysuru-bites-pop-up/
LOCATION:Galopper\, Stellinger Weg 35\, Hamburg\, 20255\, Deutschland
ATTACH;FMTTYPE=image/jpeg:https://galopper-hamburg.de/wp-content/uploads/2025/04/Mysuru-27.jpg
ORGANIZER;CN="Mysuru Bites":MAILTO:mysurubites2024@gmail.com
END:VEVENT
END:VCALENDAR